BEGIN:VCALENDAR
VERSION:2.0
PRODID:-//The Strath - ECPv6.8.1//NONSGML v1.0//EN
CALSCALE:GREGORIAN
METHOD:PUBLISH
X-WR-CALNAME:The Strath
X-ORIGINAL-URL:https://strathconahotel.com
X-WR-CALDESC:Events for The Strath
REFRESH-INTERVAL;VALUE=DURATION:PT1H
X-Robots-Tag:noindex
X-PUBLISHED-TTL:PT1H
BEGIN:VTIMEZONE
TZID:America/Vancouver
BEGIN:DAYLIGHT
TZOFFSETFROM:-0800
TZOFFSETTO:-0700
TZNAME:PDT
DTSTART:20250309T100000
END:DAYLIGHT
BEGIN:STANDARD
TZOFFSETFROM:-0700
TZOFFSETTO:-0800
TZNAME:PST
DTSTART:20251102T090000
END:STANDARD
END:VTIMEZONE
BEGIN:VEVENT
DTSTART;TZID=America/Vancouver:20250322T183000
DTEND;TZID=America/Vancouver:20250322T220000
DTSTAMP:20260421T062243
CREATED:20250131T234251Z
LAST-MODIFIED:20250131T234251Z
UID:4077-1742668200-1742680800@strathconahotel.com
SUMMARY:The Smokestacks and James Vickers Band
DESCRIPTION:Join us for an exciting evening of blues with The Smokestacks and the James Vickers Band. Both these bands are bringing it to stages on Vancouver Island and beyond\, proving that the blues strikes hearts of any age. \nLighting up Victoria stages is the six-piece blues band\, The Smokestacks. Their sound combines classic blues standards with soul\, originality and creativity. With a style ranging from smooth tunes to hard\, gritty blues\, they draw on inspiration from Howlin’ Wolf\, Bonnie Raitt\, Albert King and many other legendary blues giants. \nWith one album under their wings and about to record their second\, the James Vickers Band released their first album in June 2024 and spent the summer playing at festivals\, venues and private functions on Vancouver Island and the Mainland. Led by James Vickers\, a 15-year-old Indigenous singer-songwriter-guitarist. \nThis exciting double bill features the next generation of blues artists on Vancouver Island. This outstanding talent shines a light on the future of blues performance. \nSEATING IS FIRST COME\, FIRST SERVED. TICKET SALES WILL BE LIMITED TO THE NUMBER OF AVAILABLE SEATS. Purchase tickets here: https://victoria-blues-society.tickit.ca/events/27569-the-next-generation-of-blues-the-smokestacks-and-james-vickers-band-double-bill  \nBrought to you by the Victoria Blues Society
URL:https://strathconahotel.com/event/the-smokestacks-and-james-vickers-band
CATEGORIES:Special
ATTACH;FMTTYPE=image/jpeg:https://strathconahotel.com/wp-content/uploads/2025/01/large-James-Vickers-IG-STORY-1.jpg
END:VEVENT
END:VCALENDAR