BEGIN:VCALENDAR
VERSION:2.0
PRODID:-//The Strath - ECPv6.8.1//NONSGML v1.0//EN
CALSCALE:GREGORIAN
METHOD:PUBLISH
X-WR-CALNAME:The Strath
X-ORIGINAL-URL:https://strathconahotel.com
X-WR-CALDESC:Events for The Strath
REFRESH-INTERVAL;VALUE=DURATION:PT1H
X-Robots-Tag:noindex
X-PUBLISHED-TTL:PT1H
BEGIN:VTIMEZONE
TZID:America/Vancouver
BEGIN:DAYLIGHT
TZOFFSETFROM:-0800
TZOFFSETTO:-0700
TZNAME:PDT
DTSTART:20250309T100000
END:DAYLIGHT
BEGIN:STANDARD
TZOFFSETFROM:-0700
TZOFFSETTO:-0800
TZNAME:PST
DTSTART:20251102T090000
END:STANDARD
END:VTIMEZONE
BEGIN:VEVENT
DTSTART;TZID=America/Vancouver:20250418T220000
DTEND;TZID=America/Vancouver:20250418T220000
DTSTAMP:20260423T031111
CREATED:20250403T185745Z
LAST-MODIFIED:20250403T185748Z
UID:4217-1745013600-1745013600@strathconahotel.com
SUMMARY:EASTER SEND IN VICTORIA 🐰
DESCRIPTION:WE ARE HOSTING A CRAZY EASTER LONG WEEKEND SENDSZN PARTY WITH DJ ISA 🐰 \n*All tickets sales are final. You must be 19+ to attend. You must have 2 pieces government issue ID. PHOTOS OF YOUR ID WILL NOT WORK* \nTickets are available here: https://www.flite.city/e/easter-send-in-victoria?t=link-tree
URL:https://strathconahotel.com/event/easter-send-in-victoria-%f0%9f%90%b0
CATEGORIES:Special
ATTACH;FMTTYPE=image/jpeg:https://strathconahotel.com/wp-content/uploads/2025/04/SendSZN-IG-STORY.jpg
END:VEVENT
END:VCALENDAR