BEGIN:VCALENDAR
VERSION:2.0
PRODID:-//The Strath - ECPv6.8.1//NONSGML v1.0//EN
CALSCALE:GREGORIAN
METHOD:PUBLISH
X-WR-CALNAME:The Strath
X-ORIGINAL-URL:https://strathconahotel.com
X-WR-CALDESC:Events for The Strath
REFRESH-INTERVAL;VALUE=DURATION:PT1H
X-Robots-Tag:noindex
X-PUBLISHED-TTL:PT1H
BEGIN:VTIMEZONE
TZID:America/Vancouver
BEGIN:DAYLIGHT
TZOFFSETFROM:-0800
TZOFFSETTO:-0700
TZNAME:PDT
DTSTART:20250309T100000
END:DAYLIGHT
BEGIN:STANDARD
TZOFFSETFROM:-0700
TZOFFSETTO:-0800
TZNAME:PST
DTSTART:20251102T090000
END:STANDARD
END:VTIMEZONE
BEGIN:VEVENT
DTSTART;TZID=America/Vancouver:20250809T200000
DTEND;TZID=America/Vancouver:20250809T200000
DTSTAMP:20260419T055320
CREATED:20250731T172854Z
LAST-MODIFIED:20250731T173517Z
UID:4505-1754769600-1754769600@strathconahotel.com
SUMMARY:BAYWATCH BEACH BASH
DESCRIPTION:🏖 BAYWATCH BEACH BASH 🏖 \nMadness x Jägermeister are bringing the BEACH to YOU at Rooftop on Saturday\, August 9th!   We’re flipping the Rooftop Patio into a seaside escape with help from Jägermeister\, loaded with games\, giveaways\, and ice‑cold drink specials from Jägermeister🍹. \nRunning 8PM–1AM with DJ MILA & KAASTRO on the Decks playing the best house\, pop and rap tracks 💃.   Dress in the iconic Baywatch reds\, whites & yellows\, or simply pull up dressed for the beach! \nWe’re giving away more prizing than we ever have for this one and you are not going to want to miss it. Info coming this week. \n📅 SATURDAY\, Aug 9 | \n⏰ 8PM–1AM | \n🎧 DJ MILA & KAASTRO | \n📍 919 Douglas St (Stairs via Courtney St) \n🏝 TICKETS ON SALE NOW 🏝 \nPurchase tickets here: https://www.flite.city/e/baywatch-beach-bash
URL:https://strathconahotel.com/event/baywatch-beach-bash
CATEGORIES:Special
ATTACH;FMTTYPE=image/jpeg:https://strathconahotel.com/wp-content/uploads/2025/07/large-Baywatch-IG-Story.jpg
END:VEVENT
END:VCALENDAR