BEGIN:VCALENDAR
VERSION:2.0
PRODID:-//The Strath - ECPv6.8.1//NONSGML v1.0//EN
CALSCALE:GREGORIAN
METHOD:PUBLISH
X-WR-CALNAME:The Strath
X-ORIGINAL-URL:https://strathconahotel.com
X-WR-CALDESC:Events for The Strath
REFRESH-INTERVAL;VALUE=DURATION:PT1H
X-Robots-Tag:noindex
X-PUBLISHED-TTL:PT1H
BEGIN:VTIMEZONE
TZID:America/Vancouver
BEGIN:DAYLIGHT
TZOFFSETFROM:-0800
TZOFFSETTO:-0700
TZNAME:PDT
DTSTART:20250309T100000
END:DAYLIGHT
BEGIN:STANDARD
TZOFFSETFROM:-0700
TZOFFSETTO:-0800
TZNAME:PST
DTSTART:20251102T090000
END:STANDARD
END:VTIMEZONE
BEGIN:VEVENT
DTSTART;TZID=America/Vancouver:20251031T210000
DTEND;TZID=America/Vancouver:20251031T210000
DTSTAMP:20260423T111836
CREATED:20251007T205148Z
LAST-MODIFIED:20251021T232838Z
UID:4619-1761944400-1761944400@strathconahotel.com
SUMMARY:NIGHTMARE ON DOUGLAS ST
DESCRIPTION:NIGHTMARE ON DOUGLAS ST 💀Friday\, October 31 | Doors at 9PM | Studio 919 | 19+ \nADVANCED TICKETS ARE NOW SOLD OUT – MORE WILL BE AVAILABLE AT THE DOOR \nThis Halloween\, Victoria’s most historic building comes alive for a night of pure spine-tingling energy. Nightmare on Douglas St is your ultimate Halloween rave—an electrifying night of music\, dancing\, and haunting fun that will keep you moving all night. \nDress to impress—or to terrify—and compete in the Best Group Costume contest for a chance to win BIG. The floor will shake\, the beats will hit hard\, and the night will be one for the history books. \n🎟️ Tickets: \n\n\nTier 1: $15 \n\n\nTier 2: $20 \n\n\nDoor: $25 \n\n\nDoors open at 9PM—come ready to lose yourself in the music and the madness. \nThis is Victoria’s biggest Halloween party\, where thrills\, chills\, and unforgettable memories collide.Nightmare on Douglas St — don’t miss your chance to be part of the legend.
URL:https://strathconahotel.com/event/nightmare-on-douglas-st
CATEGORIES:Special
ATTACH;FMTTYPE=image/jpeg:https://strathconahotel.com/wp-content/uploads/2025/10/Halloween-IG-STORY-SOLD-OUT.jpg
END:VEVENT
BEGIN:VEVENT
DTSTART;TZID=America/Vancouver:20251031T210000
DTEND;TZID=America/Vancouver:20251031T210000
DTSTAMP:20260423T111836
CREATED:20251009T190018Z
LAST-MODIFIED:20251020T175841Z
UID:4624-1761944400-1761944400@strathconahotel.com
SUMMARY:Horror Show at the Sticky Wicket
DESCRIPTION:🎃 HORROR SHOW at The Sticky Wicket 🎃Victoria’s most terrifying Halloween bash is back! Step inside The Horror Show—a two-night Halloween takeover that will send chills down Douglas Street. \n💀 Friday\, Oct 31 & Saturday\, Nov 1The Sticky Wicket transforms into your darkest nightmare—where skulls\, screams\, and sinister beats collide under one roof. Expect haunting lights\, freaky sights\, and a dance floor possessed by killer DJs spinning all night long. \n👻 Cover: $10 Friday | Free SaturdayDoors creak open at 9PM | 19+ w/ 2 pieces of ID \nSo grab your bravest crew\, throw on your creepiest costume\, and get ready to dance with the undead. Your nightmare begins at The Sticky Wicket (919 Douglas St.).
URL:https://strathconahotel.com/event/horror-show-at-the-sticky-wicket/2025-10-31
CATEGORIES:Special
ATTACH;FMTTYPE=image/jpeg:https://strathconahotel.com/wp-content/uploads/2025/10/large-Halloween-Upstairs-IG-STORY.jpg
END:VEVENT
END:VCALENDAR