BEGIN:VCALENDAR
VERSION:2.0
PRODID:-//The Strath - ECPv6.8.1//NONSGML v1.0//EN
CALSCALE:GREGORIAN
METHOD:PUBLISH
X-WR-CALNAME:The Strath
X-ORIGINAL-URL:https://strathconahotel.com
X-WR-CALDESC:Events for The Strath
REFRESH-INTERVAL;VALUE=DURATION:PT1H
X-Robots-Tag:noindex
X-PUBLISHED-TTL:PT1H
BEGIN:VTIMEZONE
TZID:America/Vancouver
BEGIN:DAYLIGHT
TZOFFSETFROM:-0800
TZOFFSETTO:-0700
TZNAME:PDT
DTSTART:20240310T100000
END:DAYLIGHT
BEGIN:STANDARD
TZOFFSETFROM:-0700
TZOFFSETTO:-0800
TZNAME:PST
DTSTART:20241103T090000
END:STANDARD
END:VTIMEZONE
BEGIN:VEVENT
DTSTART;TZID=America/Vancouver:20241018T200000
DTEND;TZID=America/Vancouver:20241018T200000
DTSTAMP:20260423T075446
CREATED:20241002T194203Z
LAST-MODIFIED:20241023T201756Z
UID:3433-1729281600-1729281600@strathconahotel.com
SUMMARY:Friday Night Live
DESCRIPTION:Join us for Cyborg Band and Surprise Left 8pm-12:45am \n$8 cover fee
URL:https://strathconahotel.com/event/friday-night-live-2
CATEGORIES:Special
ATTACH;FMTTYPE=image/jpeg:https://strathconahotel.com/wp-content/uploads/2024/10/Friday-Night-LIVE-Surprise-Left-STORY-Oct.-18th-scaled.jpg
END:VEVENT
BEGIN:VEVENT
DTSTART;TZID=America/Vancouver:20241014T160000
DTEND;TZID=America/Vancouver:20241014T220000
DTSTAMP:20260423T075446
CREATED:20241013T011521Z
LAST-MODIFIED:20241013T011521Z
UID:3457-1728921600-1728943200@strathconahotel.com
SUMMARY:Thanksgiving!!
DESCRIPTION:Join us for a thanksgiving meal after 4pm!
URL:https://strathconahotel.com/event/thanksgiving-2
CATEGORIES:Special
ATTACH;FMTTYPE=image/jpeg:https://strathconahotel.com/wp-content/uploads/2024/10/Thanksgiving-2024-11x17-1-scaled.jpg
END:VEVENT
BEGIN:VEVENT
DTSTART;TZID=America/Vancouver:20241013T160000
DTEND;TZID=America/Vancouver:20241013T220000
DTSTAMP:20260423T075446
CREATED:20241013T011405Z
LAST-MODIFIED:20241013T011643Z
UID:3454-1728835200-1728856800@strathconahotel.com
SUMMARY:Thanksgiving!!
DESCRIPTION:Join us for a thanksgiving meal after 4pm!
URL:https://strathconahotel.com/event/thanksgiving
CATEGORIES:Special
ATTACH;FMTTYPE=image/jpeg:https://strathconahotel.com/wp-content/uploads/2024/10/Thanksgiving-2024-11x17-1-scaled.jpg
END:VEVENT
BEGIN:VEVENT
DTSTART;TZID=America/Vancouver:20241011T203000
DTEND;TZID=America/Vancouver:20241011T233000
DTSTAMP:20260423T075446
CREATED:20241001T191846Z
LAST-MODIFIED:20241001T192051Z
UID:3428-1728678600-1728689400@strathconahotel.com
SUMMARY:Friday Night Live Presents Brett Smith Daniels
DESCRIPTION:Every Friday join us for live music\, drink specials\, and dancing. \nPlaying October 11th will be Brett Smith Daniels. Tickets are available for $8 at door.
URL:https://strathconahotel.com/event/friday-night-live-presents-brett-smith-daniels
CATEGORIES:Special,Weekly
ATTACH;FMTTYPE=image/jpeg:https://strathconahotel.com/wp-content/uploads/2024/10/Friday-Night-LIVE-Brett-Oct.-11-th-IG-STORY-scaled.jpg
END:VEVENT
BEGIN:VEVENT
DTSTART;TZID=America/Vancouver:20241005T180000
DTEND;TZID=America/Vancouver:20241005T220000
DTSTAMP:20260423T075446
CREATED:20241001T192826Z
LAST-MODIFIED:20241001T192826Z
UID:3430-1728151200-1728165600@strathconahotel.com
SUMMARY:UFC 307
DESCRIPTION:Join us in Wicket Hall for UFC 307\, with 2 title fights. Watch Pereira vs Rountree Jr. & Pennington vs Peña.
URL:https://strathconahotel.com/event/ufc-307
CATEGORIES:Special
ATTACH;FMTTYPE=image/jpeg:https://strathconahotel.com/wp-content/uploads/2024/10/UFC307-IG-STORY.jpg
END:VEVENT
BEGIN:VEVENT
DTSTART;TZID=America/Vancouver:20241004T203000
DTEND;TZID=America/Vancouver:20241004T203000
DTSTAMP:20260423T075446
CREATED:20240910T204615Z
LAST-MODIFIED:20240910T233932Z
UID:3397-1728073800-1728073800@strathconahotel.com
SUMMARY:Friday Night Live Presents Tight Hair Disco
DESCRIPTION:Every Friday join us for live music\, drink specials\, and dancing. \nPlaying October 4th will be Tight Hair Disco. Tickets are available here.
URL:https://strathconahotel.com/event/friday-night-live-presents-tight-hair-disco
CATEGORIES:Special,Weekly
ATTACH;FMTTYPE=image/jpeg:https://strathconahotel.com/wp-content/uploads/2024/09/Friday-Night-LIVE-Tight-Hair-Disco-STORY-Oct.-4-scaled.jpg
END:VEVENT
END:VCALENDAR