BEGIN:VCALENDAR
VERSION:2.0
PRODID:-//The Strath - ECPv6.8.1//NONSGML v1.0//EN
CALSCALE:GREGORIAN
METHOD:PUBLISH
X-WR-CALNAME:The Strath
X-ORIGINAL-URL:https://strathconahotel.com
X-WR-CALDESC:Events for The Strath
REFRESH-INTERVAL;VALUE=DURATION:PT1H
X-Robots-Tag:noindex
X-PUBLISHED-TTL:PT1H
BEGIN:VTIMEZONE
TZID:America/Vancouver
BEGIN:DAYLIGHT
TZOFFSETFROM:-0800
TZOFFSETTO:-0700
TZNAME:PDT
DTSTART:20250309T100000
END:DAYLIGHT
BEGIN:STANDARD
TZOFFSETFROM:-0700
TZOFFSETTO:-0800
TZNAME:PST
DTSTART:20251102T090000
END:STANDARD
END:VTIMEZONE
BEGIN:VEVENT
DTSTART;TZID=America/Vancouver:20250312T180000
DTEND;TZID=America/Vancouver:20250312T180000
DTSTAMP:20260421T050918
CREATED:20250224T205634Z
LAST-MODIFIED:20250224T205634Z
UID:4125-1741802400-1741802400@strathconahotel.com
SUMMARY:Canucks vs Flames
DESCRIPTION:Home of the Canucks \nCanucks vs Flames
URL:https://strathconahotel.com/event/canucks-vs-flames
CATEGORIES:Sports Events
ATTACH;FMTTYPE=image/jpeg:https://strathconahotel.com/wp-content/uploads/2025/02/Sports-8.jpg
END:VEVENT
BEGIN:VEVENT
DTSTART;TZID=America/Vancouver:20250311T190000
DTEND;TZID=America/Vancouver:20250311T190000
DTSTAMP:20260421T050918
CREATED:20250224T205442Z
LAST-MODIFIED:20250224T205442Z
UID:4123-1741719600-1741719600@strathconahotel.com
SUMMARY:Canucks vs Canadiens
DESCRIPTION:Home of the Canucks \nCanucks vs Canadiens
URL:https://strathconahotel.com/event/canucks-vs-canadiens
CATEGORIES:Sports Events
ATTACH;FMTTYPE=image/jpeg:https://strathconahotel.com/wp-content/uploads/2025/02/Sports-7.jpg
END:VEVENT
BEGIN:VEVENT
DTSTART;TZID=America/Vancouver:20250309T180000
DTEND;TZID=America/Vancouver:20250309T180000
DTSTAMP:20260421T050918
CREATED:20250224T205316Z
LAST-MODIFIED:20250224T205316Z
UID:4121-1741543200-1741543200@strathconahotel.com
SUMMARY:Canucks vs Stars
DESCRIPTION:Home of the Canucks \nCanucks vs Stars
URL:https://strathconahotel.com/event/canucks-vs-stars
CATEGORIES:Sports Events
ATTACH;FMTTYPE=image/jpeg:https://strathconahotel.com/wp-content/uploads/2025/02/Sports-6.jpg
END:VEVENT
BEGIN:VEVENT
DTSTART;TZID=America/Vancouver:20250308T210000
DTEND;TZID=America/Vancouver:20250308T210000
DTSTAMP:20260421T050918
CREATED:20250220T220535Z
LAST-MODIFIED:20250307T181214Z
UID:4096-1741467600-1741467600@strathconahotel.com
SUMMARY:SkyBar: An Otherworld Fundraiser
DESCRIPTION:Welcome to Skybar’s Premiere Onboarding Soirée\, a cloud nine experience designed for those who don’t just work—they elevate. This rooftop* gathering is where industry game changers come to toast to the future with gold-rimmed martinis and sky-high aspirations. The altitude is high\, the drinks are top-shelf\, and the guest list? Strictly first class. If you’re here\, you’re already above the rest. \nExpect handcrafted cocktails using AI-generated flavor profiles and rare botanicals sourced from undisclosed offshore locations. Drinks are engineered at the molecular level to optimize charisma\, triple your IQ\, and somehow create high-stakes networking opportunities that statistically guarantee a life changing pivot. At Skybar\, onboarding isn’t just an introduction—it’s a launchpad. Welcome to the stratosphere. \nCostumes encouraged. Inspired by a “rich business” aesthetic but all costumes are welcome! Keep an eye on the event page for inspiration. \n*”Rooftop” is a state of mind. Please enter through the venue basement. \n__________________________________ \nDoors @ 9PM \nLocation: The Wicket Hall // 919 Douglas st. In downtown “Victoria” \nTICKETS: AVAILABLE HERE \nEarly Bird – $25 (+fees) – SOLD OUT \nGeneral Admission – $30 (+fees) \n19+\, door tickets available! \n~~~~~~~~~~~~ \nMUSIC & ENTERTAINMENT/// \nBarnes & Barnes – https://soundcloud.com/barnesandbarnes \nIcedtang – high energy Latin house \nPushplay – disco\, funky house\, electro \nSassbot – https://soundcloud.com/sassbot \nVISUALS/// \nLights by Grant Harris & Gabby Odowichuk \n~~~~~~~~~~~~ \nA limited number of free tickets are available in exchange for volunteering at the party. Email sassbot.music@gmail.com to sign up\, and have your ticket reimbursed at the end of the night. MORE QUESTIONS? Post them to the chat or send us an email. \n*****IMPORTANT INFO***** \n(1) All proceeds support the Skybar theme camp at Otherworld \n(2) This event is wheelchair accessible. \n(3) Costumes encouraged! \n(4) This event has a Culture of Consent. Report anyone making you feel uncomfortable to the skybar crew or security. \nWe invite you to join us in creating a culture of consent. Remember that consent applies to all interactions and is a whole body experience: mental\, physical\, and emotional. In any interaction at our event\, we encourage you to communicate clearly and respect your own and other’s boundaries. \nLove\, \nYour Skybar Party Crew \n—– \nDJ profiles \n\nbarnes & barnes (vancouver) – The inimitable Barnes & Barnes is a long-time SKYBAR contributor (at that other thing in the forest\, and beyond). Barnes & Barnes is a Vancouver-based DJ and musician who thinks life is better at 40-50Hz at 95-100dB. Trained as a classical bassoonist\, and dj’ed for ~15 years\, he is a lifelong music lover. His blend of house\, techno\, dnb\, grime and UKG have moved dancefloors at many burning man parties\, Vancouver venues such as the PNE\, Osito\, The Score\, Downbeat in Victoria and many afterhours events.\nsassbot (victoria) – Known for keeping the dancefloor ignited\, sassbot is an autonomous humanoid machine powered by bass\, funk\, and whisky.Bringing genre-fluid booty-shaking jams to your dance floor for a decade from Capital Ballroom and Hermann’s Upstairs\, several Otherworld and BitF stages\, and mountaintops and beachfronts around around the island — she consistently delivers feel-good tunes\, a few horns\, a few breaks\, and seriously satisfying bass grooves. Her magnetic pull will have you dancing until the music stops.\n\n— the short version — \nWAT: Dance. This’ll be a fun\, funky\, bouncey\, housey\, dancey\, bassy hell of a good time. \nWHEN: Doors 9PM MARCH 8\, close 2AM \nWHERE: Wicket Hall\, downstairs at 919 Douglas\, downtown “Victoria” \nWHY: Running a sound camp at otherworld is ‘spensive. And fun! And takes much toil. So let’s do fun things together now so we can do it again together later! \nPHOTO CREDIT: (insta) colinsmithtakespics
URL:https://strathconahotel.com/event/skybar-an-otherworld-fundraiser
CATEGORIES:Special
ATTACH;FMTTYPE=image/jpeg:https://strathconahotel.com/wp-content/uploads/2025/02/SkyBar-IG-STORY2.jpg
END:VEVENT
BEGIN:VEVENT
DTSTART;TZID=America/Vancouver:20250308T180000
DTEND;TZID=America/Vancouver:20250308T213000
DTSTAMP:20260421T050918
CREATED:20250221T221050Z
LAST-MODIFIED:20250222T213859Z
UID:4101-1741456800-1741469400@strathconahotel.com
SUMMARY:UFC 313
DESCRIPTION:UFC 313: Pereira vs. Ankalaev is an upcoming mixed martial arts event produced by the Ultimate Fighting Championship that will take place on March 8\, 2025\, at T-Mobile Arena in Paradise\, Nevada\, part of the Las Vegas Valley\, United States. \nDoors at 6pm in the Games Room \n$8 Cover
URL:https://strathconahotel.com/event/ufc-313
CATEGORIES:Special,Sports Events
ATTACH;FMTTYPE=image/jpeg:https://strathconahotel.com/wp-content/uploads/2025/02/large-UFC313-IG-STORY.jpg
END:VEVENT
BEGIN:VEVENT
DTSTART;TZID=America/Vancouver:20250307T220000
DTEND;TZID=America/Vancouver:20250307T220000
DTSTAMP:20260421T050918
CREATED:20250213T194303Z
LAST-MODIFIED:20250213T214334Z
UID:4092-1741384800-1741384800@strathconahotel.com
SUMMARY:Mardi Gras Masquerade
DESCRIPTION:🎭 Mardi Gras Masquerade! 🎭 \nGet ready to throw on your wildest outfit and lose yourself in the most unforgettable Mardi Gras bash of the year! 🎉 The Mardi Gras Masquerade is bringing the BIG EASY to YOU\, New Orleans-style—complete with beads\, masks\, music\, and all the glittering madness you can handle! 🎭✨ \nDoors open at 10pm sharp\, and trust us—you don’t want to be late! The fun kicks off with a bevvy included with your ticket (yes\, INCLUDED🍹)\, and the party will keep you dancing all night long. Whether you’re rocking a feather mask\, a colorful costume\, or just your most fabulous self\, this night is all about celebrating the magic of Mardi Gras in style! 💃🕺 \nTickets are just $9.99\, and here’s where it gets even better—one lucky ticket holder will win a VIP table for the night! 🎉 How do you get in on the action? It’s easy: \n\nBuy your ticket (you’re already halfway there!)\nLike our contest photo on Instagram\nFollow us on Instagram (@Wicket.Weekends)\nRepost the contest photo to your story and tag us!\n\nThat’s it! You could be sipping drinks from your own VIP spot\, surrounded by the best of the best\, all night long. 🥂✨ \nPurchase tickets here: https://victic.ca/tic/mardi-gras-masquerade/ \nThis magical event is brought to you by Beach Fire Entertainment—and trust us\, this is gonna be a party for the ages! 🎶 So\, what are you waiting for? Get your ticket\, get your mask\, and get ready to party like you’ve never partied before. 💥 \nLet’s make this Mardi Gras one to remember. See you at 10pm—let the fun begin! 🎉
URL:https://strathconahotel.com/event/mardi-gras-masquerade
CATEGORIES:Special
ATTACH;FMTTYPE=image/jpeg:https://strathconahotel.com/wp-content/uploads/2025/02/Mardi-Gras-IG-STORY.jpg
END:VEVENT
BEGIN:VEVENT
DTSTART;TZID=America/Vancouver:20250307T190000
DTEND;TZID=America/Vancouver:20250307T190000
DTSTAMP:20260421T050918
CREATED:20250224T205139Z
LAST-MODIFIED:20250224T205139Z
UID:4119-1741374000-1741374000@strathconahotel.com
SUMMARY:Canucks vs Wild
DESCRIPTION:Home of the Canucks \nCanucks vs Wild
URL:https://strathconahotel.com/event/canucks-vs-wild
CATEGORIES:Sports Events
ATTACH;FMTTYPE=image/jpeg:https://strathconahotel.com/wp-content/uploads/2025/02/Sports-5.jpg
END:VEVENT
BEGIN:VEVENT
DTSTART;TZID=America/Vancouver:20250305T193000
DTEND;TZID=America/Vancouver:20250305T193000
DTSTAMP:20260421T050918
CREATED:20250224T205013Z
LAST-MODIFIED:20250224T205013Z
UID:4117-1741203000-1741203000@strathconahotel.com
SUMMARY:Canucks vs Ducks
DESCRIPTION:Home of the Canucks \nCanucks vs Ducks
URL:https://strathconahotel.com/event/canucks-vs-ducks
CATEGORIES:Sports Events
ATTACH;FMTTYPE=image/jpeg:https://strathconahotel.com/wp-content/uploads/2025/02/Sports-4.jpg
END:VEVENT
BEGIN:VEVENT
DTSTART;TZID=America/Vancouver:20250305T190000
DTEND;TZID=America/Vancouver:20250305T220000
DTSTAMP:20260421T050919
CREATED:20250131T234733Z
LAST-MODIFIED:20250131T234736Z
UID:4079-1741201200-1741212000@strathconahotel.com
SUMMARY:Blu & Exile with Spark Houston
DESCRIPTION:MODO-LIVE\, Homstand & Urbain present… \nBlu & Exile \nwith Spark Houston \nPurchase your tickets here: https://www.ticketweb.ca/event/blu-exile-with-spark-wicket-hall-tickets/14052383 \nWednesday March 5\, 2025 \nWicket Hall \nVictoria\, BC
URL:https://strathconahotel.com/event/blu-exile-with-spark-houston
CATEGORIES:Special
ATTACH;FMTTYPE=image/jpeg:https://strathconahotel.com/wp-content/uploads/2025/01/large-Blu-_-Exile-IG-STORY.jpg
END:VEVENT
BEGIN:VEVENT
DTSTART;TZID=America/Vancouver:20250301T190000
DTEND;TZID=America/Vancouver:20250301T233000
DTSTAMP:20260421T050919
CREATED:20250115T203113Z
LAST-MODIFIED:20250116T222804Z
UID:3998-1740855600-1740871800@strathconahotel.com
SUMMARY:DUNE RATS with Special Guests
DESCRIPTION:MODO-LIVE & I am the Eggplant presents\nDUNE RATS with Special Guests\nSat Mar 1 2025\n7:00 PM Doors\n\n\nWicket Hall\n919 Douglas Street Victoria\, BC V8W 2C2 \n\n\n$33.83\nAges 19+\nBuy tickets here
URL:https://strathconahotel.com/event/dune-rats-with-special-guests
CATEGORIES:Special
ATTACH;FMTTYPE=image/jpeg:https://strathconahotel.com/wp-content/uploads/2025/01/Dune-Rats-IG-STORY.jpg
END:VEVENT
BEGIN:VEVENT
DTSTART;TZID=America/Vancouver:20250301T190000
DTEND;TZID=America/Vancouver:20250301T190000
DTSTAMP:20260421T050919
CREATED:20250224T204854Z
LAST-MODIFIED:20250224T204854Z
UID:4115-1740855600-1740855600@strathconahotel.com
SUMMARY:Canucks vs Kraken
DESCRIPTION:Home of the Canucks \nCanucks vs Kraken \n 
URL:https://strathconahotel.com/event/canucks-vs-kraken
CATEGORIES:Sports Events
ATTACH;FMTTYPE=image/jpeg:https://strathconahotel.com/wp-content/uploads/2025/02/Sports-3.jpg
END:VEVENT
BEGIN:VEVENT
DTSTART;TZID=America/Vancouver:20250228T220000
DTEND;TZID=America/Vancouver:20250228T220000
DTSTAMP:20260421T050919
CREATED:20241212T032425Z
LAST-MODIFIED:20241212T032746Z
UID:3841-1740780000-1740780000@strathconahotel.com
SUMMARY:Shrek Rave
DESCRIPTION:Shrek Rave is coming to Victoria at Wicket Hall on Feb 28th! \nIT’S DUMB JUST COME HAVE FUN. COOL IS DEAD. WHO CARES. \nTickets on-sale now here \nDoors 10:00 PM \nWicket Hall \n\n\n$20 \nAges 19+
URL:https://strathconahotel.com/event/shrek-rave
CATEGORIES:Special
ATTACH;FMTTYPE=image/jpeg:https://strathconahotel.com/wp-content/uploads/2024/12/Shrek-Rave-IG-STORY.jpg
END:VEVENT
BEGIN:VEVENT
DTSTART;TZID=America/Vancouver:20250227T190000
DTEND;TZID=America/Vancouver:20250227T190000
DTSTAMP:20260421T050919
CREATED:20250125T004243Z
LAST-MODIFIED:20250125T004243Z
UID:4040-1740682800-1740682800@strathconahotel.com
SUMMARY:NHL Canucks vs Ducks
DESCRIPTION:Home of the Canucks \nNHL Canucks vs Ducks
URL:https://strathconahotel.com/event/nhl-canucks-vs-ducks
CATEGORIES:Sports Events
ATTACH;FMTTYPE=image/jpeg:https://strathconahotel.com/wp-content/uploads/2025/01/Sports-2.jpg
END:VEVENT
BEGIN:VEVENT
DTSTART;TZID=America/Vancouver:20250226T190000
DTEND;TZID=America/Vancouver:20250226T190000
DTSTAMP:20260421T050919
CREATED:20250125T004122Z
LAST-MODIFIED:20250125T004122Z
UID:4038-1740596400-1740596400@strathconahotel.com
SUMMARY:NHL Canucks vs Kings
DESCRIPTION:Home of the Canucks \nNHL Canucks vs Kings
URL:https://strathconahotel.com/event/nhl-canucks-vs-kings-2
CATEGORIES:Sports Events
ATTACH;FMTTYPE=image/jpeg:https://strathconahotel.com/wp-content/uploads/2025/01/Sports-1.jpg
END:VEVENT
BEGIN:VEVENT
DTSTART;TZID=America/Vancouver:20250226T180000
DTEND;TZID=America/Vancouver:20250226T180000
DTSTAMP:20260421T050919
CREATED:20250116T200938Z
LAST-MODIFIED:20250116T221358Z
UID:4013-1740592800-1740592800@strathconahotel.com
SUMMARY:JEFF MARTIN (of The Tea Party) Live
DESCRIPTION:Got Pop? Concerts presents: \nJEFF MARTIN (of The Tea Party) with special guests.\n\nTickets Here\nJeff Martin\, lead singer of the iconic Canadian rock band\, The Tea Party\, has been labelled everything from “child prodigy”\, “virtuoso guitarist”\, and a “singer with perfect pitch”. \nHe is an artist that transcends typical musical genres\, and has become somewhat of a musical healer for fans across the globe. \nJeff has carved out a distinctive and successful career for himself as a solo artist\, various other side projects\, and as an acclaimed and highly sought-after producer. \nA Jeff Martin performance is one that moves the audience to realms like no other\, it’s an experience.
URL:https://strathconahotel.com/event/4013
CATEGORIES:Special
ATTACH;FMTTYPE=image/jpeg:https://strathconahotel.com/wp-content/uploads/2025/01/Jeff-Martin-IG-STORY.jpg
END:VEVENT
BEGIN:VEVENT
DTSTART;TZID=America/Vancouver:20250223T170000
DTEND;TZID=America/Vancouver:20250223T170000
DTSTAMP:20260421T050919
CREATED:20250125T003942Z
LAST-MODIFIED:20250125T003942Z
UID:4036-1740330000-1740330000@strathconahotel.com
SUMMARY:NHL Canucks vs Utah
DESCRIPTION:Home of the Canucks \nNHL Canucks vs Utah
URL:https://strathconahotel.com/event/nhl-canucks-vs-utah
CATEGORIES:Sports Events
ATTACH;FMTTYPE=image/jpeg:https://strathconahotel.com/wp-content/uploads/2025/01/Sports.jpg
END:VEVENT
BEGIN:VEVENT
DTSTART;TZID=America/Vancouver:20250222T190000
DTEND;TZID=America/Vancouver:20250222T190000
DTSTAMP:20260421T050919
CREATED:20250125T003756Z
LAST-MODIFIED:20250125T003756Z
UID:4033-1740250800-1740250800@strathconahotel.com
SUMMARY:NHL Canucks vs Golden Knights
DESCRIPTION:Home of the Cnaucks \nNHL Canucks vs Golden Knights
URL:https://strathconahotel.com/event/nhl-canucks-vs-golden-knights
CATEGORIES:Sports Events
ATTACH;FMTTYPE=image/png:https://strathconahotel.com/wp-content/uploads/2025/01/Sports-4.png
END:VEVENT
BEGIN:VEVENT
DTSTART;TZID=America/Vancouver:20250221T220000
DTEND;TZID=America/Vancouver:20250221T220000
DTSTAMP:20260421T050919
CREATED:20250115T202613Z
LAST-MODIFIED:20250116T222659Z
UID:3995-1740175200-1740175200@strathconahotel.com
SUMMARY:Club 90's Presents: Chappell Roan Night
DESCRIPTION:Chappell Roan Dance Night comes to Wicket Hall on February 21st. Don’t miss the unofficial dance party dedicated to playing all your favorite bops from the Midwest Princess!\n\nDisclaimer: This is a DJ event. Chappell Roan will NOT be in attendance. \n\n\n\nMODO-LIVE x CLUB 90’s PRESENTS \n\nChappell Roan Night\n\n\nFri Feb 21 2025\n10:00 PM Doors\n\n\nWicket Hall\n919 Douglas Street Victoria\, BC V8W 2C2 \n\n\n$20.28\nAges 19+\n\n\nBuy tickets here
URL:https://strathconahotel.com/event/club-90s-presents-chappell-roan-night
CATEGORIES:Special
ATTACH;FMTTYPE=image/jpeg:https://strathconahotel.com/wp-content/uploads/2025/01/Pink-Pony-Club-IG-Story.jpg
END:VEVENT
BEGIN:VEVENT
DTSTART;TZID=America/Vancouver:20250217T170000
DTEND;TZID=America/Vancouver:20250217T170000
DTSTAMP:20260421T050919
CREATED:20250115T203431Z
LAST-MODIFIED:20250115T203431Z
UID:4004-1739811600-1739811600@strathconahotel.com
SUMMARY:4 Nations Face Off
DESCRIPTION:Feb 12-20: Canada\, Finland\, Sweden & USA Face Off!\nCome and watch all the games in the Games Room!
URL:https://strathconahotel.com/event/4-nations-face-off/2025-02-17
CATEGORIES:Special
ATTACH;FMTTYPE=image/jpeg:https://strathconahotel.com/wp-content/uploads/2025/01/4-Nations-IG-STORY.jpg
END:VEVENT
BEGIN:VEVENT
DTSTART;TZID=America/Vancouver:20250215T190000
DTEND;TZID=America/Vancouver:20250215T220000
DTSTAMP:20260421T050919
CREATED:20250131T232926Z
LAST-MODIFIED:20250213T214651Z
UID:4068-1739646000-1739656800@strathconahotel.com
SUMMARY:Tiger Really & Passion Mango with All That Decays & Anteater Eater
DESCRIPTION:MODO-LIVE\, Programme present… \nTiger Really & Passion Mango\nwith All That Decays & Anteater Eater \nGet your tickets by clicking here: https://www.ticketweb.ca/event/tiger-really-passion-mango-wicket-hall-tickets/14158863 \nSaturday February 15th\, 2025 \nWicket Hall \nVictoria\, BC
URL:https://strathconahotel.com/event/tiger-really-passion-mango-with-all-that-decays-anteater-eater
CATEGORIES:Special
ATTACH;FMTTYPE=image/jpeg:https://strathconahotel.com/wp-content/uploads/2025/01/Tiger-Really-IG-STORY.jpg
END:VEVENT
BEGIN:VEVENT
DTSTART;TZID=America/Vancouver:20250215T170000
DTEND;TZID=America/Vancouver:20250215T170000
DTSTAMP:20260421T050919
CREATED:20250115T203431Z
LAST-MODIFIED:20250115T203431Z
UID:4003-1739638800-1739638800@strathconahotel.com
SUMMARY:4 Nations Face Off
DESCRIPTION:Feb 12-20: Canada\, Finland\, Sweden & USA Face Off!\nCome and watch all the games in the Games Room!
URL:https://strathconahotel.com/event/4-nations-face-off/2025-02-15
CATEGORIES:Special
ATTACH;FMTTYPE=image/jpeg:https://strathconahotel.com/wp-content/uploads/2025/01/4-Nations-IG-STORY.jpg
END:VEVENT
BEGIN:VEVENT
DTSTART;TZID=America/Vancouver:20250214T220000
DTEND;TZID=America/Vancouver:20250214T220000
DTSTAMP:20260421T050919
CREATED:20250122T004911Z
LAST-MODIFIED:20250130T183040Z
UID:4018-1739570400-1739570400@strathconahotel.com
SUMMARY:🚦Traffic Light Party!🚦
DESCRIPTION:🚦 Get Ready for a Traffic Light Party! 🚦 \nCalling all party people—it’s time to light up the night! 🚦✨ Join us for a Traffic Light Party where the dress code is all about your relationship status! Whether you’re vibing solo\, navigating something complicated\, or already taken\, we’ve got a color for you: \n🟢 Green = Single & Ready to Mingle\n🟡 Yellow = It’s Complicated\n🔴 Red = Taken\, But Still Here for a Good Time! \nWe’re bringing the heat with early 2000s party anthems that’ll have you dancing all night long—think “Yeah!” by Usher\, “Hot in Herre” by Nelly\, and so many more throwback jams. 💃🕺 The vibe? Pure nostalgia\, good times\, and tons of chances to meet new people (or just vibe with your crew). \n🎟️ Ticket Info: \n\nEarly Bird: $5 (Limited availability—hurry!)\nAdvanced Tickets: $10\nGeneral Admission: $15\n\nPurchase your ticket here: https://victic.ca/tic/traffic-light-party/ \n✨ Doors open at 10pm—come early to claim your spot on the dance floor. This night is going to be packed with surprises\, good energy\, and lots of opportunities to let loose and have fun! 🤩 \nSo\, grab your friends\, pick your color\, and get ready to party like it’s 2005. This is the one event you won’t want to miss. See you there! 🔥 \n#TrafficLightParty #GreenMeansSingle #YellowMeansComplicated #RedMeansTaken #Early2000sVibes
URL:https://strathconahotel.com/event/%f0%9f%9a%a6traffic-light-party%f0%9f%9a%a6
CATEGORIES:Special
ATTACH;FMTTYPE=image/jpeg:https://strathconahotel.com/wp-content/uploads/2025/01/Traffic-Light-Party-IG-STORY.jpg
END:VEVENT
BEGIN:VEVENT
DTSTART;TZID=America/Vancouver:20250213T220000
DTEND;TZID=America/Vancouver:20250213T220000
DTSTAMP:20260421T050919
CREATED:20250131T215856Z
LAST-MODIFIED:20250131T215857Z
UID:4066-1739484000-1739484000@strathconahotel.com
SUMMARY:Pardesi Presents: Desi Me Rolling - Valentine’s Edition
DESCRIPTION:💖 Pardesi Presents: Desi Me Rolling – Valentine’s Edition 💖\nJoin us for an unforgettable Valentine’s celebration at The Sticky Wicket on February 13th! \n🎧 Featuring: DJ Apogee\, spinning the best Bollywood bangers\, romantic love songs\, and soulful Sufi hits. \nGet ready for a night that goes beyond the usual Bollywood party scene in the city. This is your chance to experience something truly special\, with a blend of soulful love songs\, Sufi classics\, and the Bollywood beats you know and love. \nDon’t miss out – bring your friends\, your valentine\, or come solo to vibe with us! Let’s make it a night to remember. 💃🕺 \n🗓️ Date: February 13th\n📍 Venue: Wicket Hall by Sticky Wicket \n❤️✨Grab your tickets now and let the love-filled beats take over: https://www.eventbrite.com/e/dmr-valentines-edition-tickets  \n 
URL:https://strathconahotel.com/event/pardesi-presents-desi-me-rolling-valentines-edition
CATEGORIES:Special
ATTACH;FMTTYPE=image/jpeg:https://strathconahotel.com/wp-content/uploads/2025/01/Desi-Valentine-IG-STORY.jpg
END:VEVENT
BEGIN:VEVENT
DTSTART;TZID=America/Vancouver:20250213T170000
DTEND;TZID=America/Vancouver:20250213T170000
DTSTAMP:20260421T050919
CREATED:20250115T203431Z
LAST-MODIFIED:20250115T203431Z
UID:4002-1739466000-1739466000@strathconahotel.com
SUMMARY:4 Nations Face Off
DESCRIPTION:Feb 12-20: Canada\, Finland\, Sweden & USA Face Off!\nCome and watch all the games in the Games Room!
URL:https://strathconahotel.com/event/4-nations-face-off/2025-02-13
CATEGORIES:Special
ATTACH;FMTTYPE=image/jpeg:https://strathconahotel.com/wp-content/uploads/2025/01/4-Nations-IG-STORY.jpg
END:VEVENT
BEGIN:VEVENT
DTSTART;TZID=America/Vancouver:20250212T170000
DTEND;TZID=America/Vancouver:20250212T170000
DTSTAMP:20260421T050919
CREATED:20250115T203431Z
LAST-MODIFIED:20250115T203432Z
UID:4000-1739379600-1739379600@strathconahotel.com
SUMMARY:4 Nations Face Off
DESCRIPTION:Feb 12-20: Canada\, Finland\, Sweden & USA Face Off!\nCome and watch all the games in the Games Room!
URL:https://strathconahotel.com/event/4-nations-face-off/2025-02-12
CATEGORIES:Special
ATTACH;FMTTYPE=image/jpeg:https://strathconahotel.com/wp-content/uploads/2025/01/4-Nations-IG-STORY.jpg
END:VEVENT
BEGIN:VEVENT
DTSTART;TZID=America/Vancouver:20250209T120000
DTEND;TZID=America/Vancouver:20250209T120000
DTSTAMP:20260421T050919
CREATED:20241128T222539Z
LAST-MODIFIED:20250209T012501Z
UID:3785-1739102400-1739102400@strathconahotel.com
SUMMARY:Super Bowl Party 2025
DESCRIPTION:
URL:https://strathconahotel.com/event/super-bowl-party-2025
CATEGORIES:Special
ATTACH;FMTTYPE=image/jpeg:https://strathconahotel.com/wp-content/uploads/2024/11/Super-Bowl-25-INSTAGRAM-STORY-SOLD-OUT-copy.jpg
END:VEVENT
BEGIN:VEVENT
DTSTART;TZID=America/Vancouver:20250208T180000
DTEND;TZID=America/Vancouver:20250208T210000
DTSTAMP:20260421T050919
CREATED:20250131T234857Z
LAST-MODIFIED:20250131T234857Z
UID:4080-1739037600-1739048400@strathconahotel.com
SUMMARY:UFC 312
DESCRIPTION:UFC 312: du Plessis vs. Strickland 2 is an upcoming mixed martial arts event produced by the Ultimate Fighting Championship that is scheduled to take place on February 9\, 2025\, at the Qudos Bank Arena in Sydney\, Australia. \nDoors at 6pm \nCover $8
URL:https://strathconahotel.com/event/ufc-312
CATEGORIES:Special,Sports Events
ATTACH;FMTTYPE=image/jpeg:https://strathconahotel.com/wp-content/uploads/2025/01/large-UFC312-IG-STORY.jpg
END:VEVENT
BEGIN:VEVENT
DTSTART;TZID=America/Vancouver:20250208T160000
DTEND;TZID=America/Vancouver:20250208T160000
DTSTAMP:20260421T050919
CREATED:20250125T003607Z
LAST-MODIFIED:20250125T003607Z
UID:4031-1739030400-1739030400@strathconahotel.com
SUMMARY:NHL Canucks vs Maple Leafs
DESCRIPTION:Home of the Canucks \nNHL Canucks vs Maple Leafs
URL:https://strathconahotel.com/event/nhl-canucks-vs-maple-leafs-2
CATEGORIES:Sports Events
ATTACH;FMTTYPE=image/png:https://strathconahotel.com/wp-content/uploads/2025/01/Sports-3.png
END:VEVENT
BEGIN:VEVENT
DTSTART;TZID=America/Vancouver:20250206T193000
DTEND;TZID=America/Vancouver:20250206T193000
DTSTAMP:20260421T050919
CREATED:20250125T003414Z
LAST-MODIFIED:20250125T003414Z
UID:4029-1738870200-1738870200@strathconahotel.com
SUMMARY:NHL Canucks vs Sharks
DESCRIPTION:Home of the Canucks \nNHL Canucks vs Sharks
URL:https://strathconahotel.com/event/nhl-canucks-vs-sharks
CATEGORIES:Sports Events
ATTACH;FMTTYPE=image/png:https://strathconahotel.com/wp-content/uploads/2025/01/Sports-2.png
END:VEVENT
BEGIN:VEVENT
DTSTART;TZID=America/Vancouver:20250204T190000
DTEND;TZID=America/Vancouver:20250204T190000
DTSTAMP:20260421T050919
CREATED:20250125T003242Z
LAST-MODIFIED:20250125T003242Z
UID:4027-1738695600-1738695600@strathconahotel.com
SUMMARY:NHL Canucks vs Avalanche
DESCRIPTION:Home of the Canucks \nNHL Canucks vs Avalanche
URL:https://strathconahotel.com/event/nhl-canucks-vs-avalanche
CATEGORIES:Sports Events
ATTACH;FMTTYPE=image/png:https://strathconahotel.com/wp-content/uploads/2025/01/Sports-1.png
END:VEVENT
END:VCALENDAR