BEGIN:VCALENDAR
VERSION:2.0
PRODID:-//The Strath - ECPv6.8.1//NONSGML v1.0//EN
CALSCALE:GREGORIAN
METHOD:PUBLISH
X-WR-CALNAME:The Strath
X-ORIGINAL-URL:https://strathconahotel.com
X-WR-CALDESC:Events for The Strath
REFRESH-INTERVAL;VALUE=DURATION:PT1H
X-Robots-Tag:noindex
X-PUBLISHED-TTL:PT1H
BEGIN:VTIMEZONE
TZID:America/Vancouver
BEGIN:DAYLIGHT
TZOFFSETFROM:-0800
TZOFFSETTO:-0700
TZNAME:PDT
DTSTART:20240310T100000
END:DAYLIGHT
BEGIN:STANDARD
TZOFFSETFROM:-0700
TZOFFSETTO:-0800
TZNAME:PST
DTSTART:20241103T090000
END:STANDARD
END:VTIMEZONE
BEGIN:VEVENT
DTSTART;TZID=America/Vancouver:20241124T131500
DTEND;TZID=America/Vancouver:20241124T131500
DTSTAMP:20260421T082254
CREATED:20241108T203452Z
LAST-MODIFIED:20241108T203452Z
UID:3639-1732454100-1732454100@strathconahotel.com
SUMMARY:NFL Cardinals at Seahawks
DESCRIPTION:Home of the Seahawks \nNFL Cardinals at Seahawks
URL:https://strathconahotel.com/event/nfl-cardinals-at-seahawks
CATEGORIES:Sports Events
ATTACH;FMTTYPE=image/png:https://strathconahotel.com/wp-content/uploads/2024/11/Home-Of-The-12.png
END:VEVENT
BEGIN:VEVENT
DTSTART;TZID=America/Vancouver:20241126T160000
DTEND;TZID=America/Vancouver:20241126T160000
DTSTAMP:20260421T082254
CREATED:20241108T202247Z
LAST-MODIFIED:20241108T202312Z
UID:3630-1732636800-1732636800@strathconahotel.com
SUMMARY:NHL Canucks at Bruins
DESCRIPTION:Home of the Canucks \nNHL Canucks at Bruins
URL:https://strathconahotel.com/event/nhl-canucks-at-bruins
CATEGORIES:Sports Events
ATTACH;FMTTYPE=image/png:https://strathconahotel.com/wp-content/uploads/2024/11/Home-Of-The-8.png
END:VEVENT
BEGIN:VEVENT
DTSTART;TZID=America/Vancouver:20241127T120000
DTEND;TZID=America/Vancouver:20241127T120000
DTSTAMP:20260421T082254
CREATED:20241127T022710Z
LAST-MODIFIED:20241127T022710Z
UID:3757-1732708800-1732708800@strathconahotel.com
SUMMARY:UEFA Champions League - Liverpool vs Real Madrid
DESCRIPTION:UEFA Champions League \nDay 5 – Wednesday Nov 27 \n12pm
URL:https://strathconahotel.com/event/uefa-champions-league-liverpool-vs-real-madrid
CATEGORIES:Sports Events
ATTACH;FMTTYPE=image/jpeg:https://strathconahotel.com/wp-content/uploads/2024/11/UEFA-Day-5-IG-STORY.jpg
END:VEVENT
BEGIN:VEVENT
DTSTART;TZID=America/Vancouver:20241127T163000
DTEND;TZID=America/Vancouver:20241127T163000
DTSTAMP:20260421T082254
CREATED:20241108T202502Z
LAST-MODIFIED:20241108T202502Z
UID:3632-1732725000-1732725000@strathconahotel.com
SUMMARY:NHL Canucks at Penguins
DESCRIPTION:Home of the Canucks \nNHL Canucks at Penguins
URL:https://strathconahotel.com/event/nhl-canucks-at-penguins
CATEGORIES:Sports Events
ATTACH;FMTTYPE=image/png:https://strathconahotel.com/wp-content/uploads/2024/11/Home-Of-The-9.png
END:VEVENT
BEGIN:VEVENT
DTSTART;TZID=America/Vancouver:20241128T133000
DTEND;TZID=America/Vancouver:20241128T133000
DTSTAMP:20260421T082254
CREATED:20241126T071009Z
LAST-MODIFIED:20241126T071141Z
UID:3751-1732800600-1732800600@strathconahotel.com
SUMMARY:NFL American Thanksgiving Day
DESCRIPTION:The NFL has played games on Thanksgiving Day since the league’s inception in 1920\, meaning this tradition dates back more than 100 years.\n\n\nBig Games\, Big Screens.\n\nGames Room\n\nGiants vs Cowboys 1:30pm\nDolphins vs Packer 5:20pm\n\n\n#NFL #gamesroom #thestrath #locallegends
URL:https://strathconahotel.com/event/nfl-american-thanksgiving-day
CATEGORIES:Sports Events
ATTACH;FMTTYPE=image/png:https://strathconahotel.com/wp-content/uploads/2024/11/Instagram-Template-46.png
END:VEVENT
BEGIN:VEVENT
DTSTART;TZID=America/Vancouver:20241129T120000
DTEND;TZID=America/Vancouver:20241129T120000
DTSTAMP:20260421T082254
CREATED:20241108T202737Z
LAST-MODIFIED:20241108T202737Z
UID:3634-1732881600-1732881600@strathconahotel.com
SUMMARY:NHL Canucks at Sabers
DESCRIPTION:Home of the Canucks \nNHL Canucks at Sabers
URL:https://strathconahotel.com/event/nhl-canucks-at-sabers
CATEGORIES:Sports Events
ATTACH;FMTTYPE=image/png:https://strathconahotel.com/wp-content/uploads/2024/11/Home-Of-The-10.png
END:VEVENT
BEGIN:VEVENT
DTSTART;TZID=America/Vancouver:20241130T220000
DTEND;TZID=America/Vancouver:20241130T220000
DTSTAMP:20260421T082254
CREATED:20241121T072218Z
LAST-MODIFIED:20241122T041227Z
UID:3667-1733004000-1733004000@strathconahotel.com
SUMMARY:Sabrina Carpenter Dance Party
DESCRIPTION:UP DANCE PARTY & MODO LIVE Presents…\nSabrina Carpenter Dance Party\n\n\nNovember 30\, 2024\nWicket Hall\nVictoria\, BC\n\n\nDance to the new album all night mixed with your fav SC classics and girlie pop bops\nDisclaimer: This is a DJ event. Sabrina Carpenter will NOT be in attendance.\n\n\nTickets – Here\n\n\n#locallegends #thestrath #stickywicket #wicketweekends #wickethall
URL:https://strathconahotel.com/event/sabrina-carpenter-dance-party
CATEGORIES:Special
ATTACH;FMTTYPE=image/jpeg:https://strathconahotel.com/wp-content/uploads/2024/11/Sabrina-Carpenter-IG-STORY.jpg
END:VEVENT
BEGIN:VEVENT
DTSTART;TZID=America/Vancouver:20241203T170000
DTEND;TZID=America/Vancouver:20241203T170000
DTSTAMP:20260421T082254
CREATED:20241122T212452Z
LAST-MODIFIED:20241122T212452Z
UID:3684-1733245200-1733245200@strathconahotel.com
SUMMARY:NHL Canucks at Wild
DESCRIPTION:Home of the Canaucks \nNHL Canucks at Red Wings
URL:https://strathconahotel.com/event/nhl-canucks-at-wild
CATEGORIES:Sports Events
ATTACH;FMTTYPE=image/png:https://strathconahotel.com/wp-content/uploads/2024/11/Home-Of-The-1-1.png
END:VEVENT
BEGIN:VEVENT
DTSTART;TZID=America/Vancouver:20241206T190000
DTEND;TZID=America/Vancouver:20241206T190000
DTSTAMP:20260421T082254
CREATED:20241122T212817Z
LAST-MODIFIED:20241122T212839Z
UID:3686-1733511600-1733511600@strathconahotel.com
SUMMARY:NHL Blue Jackets at Canucks
DESCRIPTION:Home of the Canucks \nNHL Blue Jackets at Canucks
URL:https://strathconahotel.com/event/nhl-blue-jackets-at-canaucks
CATEGORIES:Sports Events
ATTACH;FMTTYPE=image/png:https://strathconahotel.com/wp-content/uploads/2024/11/Home-Of-The-2-1.png
END:VEVENT
BEGIN:VEVENT
DTSTART;TZID=America/Vancouver:20241206T220000
DTEND;TZID=America/Vancouver:20241206T220000
DTSTAMP:20260421T082254
CREATED:20241122T041758Z
LAST-MODIFIED:20241204T222752Z
UID:3678-1733522400-1733522400@strathconahotel.com
SUMMARY:Deck The Halls
DESCRIPTION:DJ’s\, Christmas Presents\, $3.50 Drink Specials & More \n$5 At the door.  Free if you wear a ugly Christmas sweater. \nCome celebrate the holiday session at Wicket Hall! The best music with the best people.  Dance party in Dec! \nDJ Yeezy Yee & DJ Kaastro \nHappy Holidays!
URL:https://strathconahotel.com/event/deck-the-halls/2024-12-06
CATEGORIES:Weekly
ATTACH;FMTTYPE=image/jpeg:https://strathconahotel.com/wp-content/uploads/2024/11/Deck-The-Hall-IG-STORY-Copy.jpg
END:VEVENT
BEGIN:VEVENT
DTSTART;TZID=America/Vancouver:20241208T130000
DTEND;TZID=America/Vancouver:20241208T130000
DTSTAMP:20260421T082254
CREATED:20241122T213056Z
LAST-MODIFIED:20241122T213123Z
UID:3688-1733662800-1733662800@strathconahotel.com
SUMMARY:NHL Lighting at Canucks
DESCRIPTION:Home of the Canucks \nNHL Lighting at Canucks
URL:https://strathconahotel.com/event/nhl-lighting-at-canucks
CATEGORIES:Sports Events
ATTACH;FMTTYPE=image/png:https://strathconahotel.com/wp-content/uploads/2024/11/Home-Of-The-3-1.png
END:VEVENT
BEGIN:VEVENT
DTSTART;TZID=America/Vancouver:20241208T130000
DTEND;TZID=America/Vancouver:20241208T130000
DTSTAMP:20260421T082254
CREATED:20241122T220618Z
LAST-MODIFIED:20241122T220618Z
UID:3710-1733662800-1733662800@strathconahotel.com
SUMMARY:NFL Seahawks at Cardinals
DESCRIPTION:Home of the Seahawks \nNFL Seahawks at Cardinals \n 
URL:https://strathconahotel.com/event/nfl-seahawks-at-cardinals
CATEGORIES:Sports Events
ATTACH;FMTTYPE=image/png:https://strathconahotel.com/wp-content/uploads/2024/11/Home-Of-The-14.png
END:VEVENT
BEGIN:VEVENT
DTSTART;TZID=America/Vancouver:20241210T120000
DTEND;TZID=America/Vancouver:20241210T120000
DTSTAMP:20260421T082254
CREATED:20241202T233516Z
LAST-MODIFIED:20241202T233532Z
UID:3791-1733832000-1733832000@strathconahotel.com
SUMMARY:UEFA Champion's League
DESCRIPTION:Atalanta vs Real Madrid \n  \n 
URL:https://strathconahotel.com/event/uefa-champion-league
CATEGORIES:Sports Events
ATTACH;FMTTYPE=image/jpeg:https://strathconahotel.com/wp-content/uploads/2024/12/UEFA-Day-6-IG-SQUARE-scaled.jpg
END:VEVENT
BEGIN:VEVENT
DTSTART;TZID=America/Vancouver:20241210T120000
DTEND;TZID=America/Vancouver:20241210T140000
DTSTAMP:20260421T082254
CREATED:20250115T203830Z
LAST-MODIFIED:20250115T203830Z
UID:4005-1733832000-1733839200@strathconahotel.com
SUMMARY:UEFA Champions League
DESCRIPTION:We are showing matches of this league in the Games Room! \nDec 10 Atlalanta vs Real Madrid at 12pm \nDec 11 B. Dortmund vs Barcelona at 12pm \nJan 21 Liverpool vs Lille at 12pm \nJan 22 PSG vs Manchester City at 12pm
URL:https://strathconahotel.com/event/uefa-champions-league-4/2024-12-10
CATEGORIES:Special
ATTACH;FMTTYPE=image/jpeg:https://strathconahotel.com/wp-content/uploads/2025/01/UEFA-Day-6-7-IG-STORY.jpg
END:VEVENT
BEGIN:VEVENT
DTSTART;TZID=America/Vancouver:20241210T190000
DTEND;TZID=America/Vancouver:20241210T190000
DTSTAMP:20260421T082254
CREATED:20241122T213317Z
LAST-MODIFIED:20241122T213341Z
UID:3690-1733857200-1733857200@strathconahotel.com
SUMMARY:NHL Blues at Canucks
DESCRIPTION:Home of the Canucks \nNHL Blues at Canucks
URL:https://strathconahotel.com/event/nhl-blues-at-canucks
CATEGORIES:Sports Events
ATTACH;FMTTYPE=image/png:https://strathconahotel.com/wp-content/uploads/2024/11/Home-Of-The-5-1.png
END:VEVENT
BEGIN:VEVENT
DTSTART;TZID=America/Vancouver:20241211T120000
DTEND;TZID=America/Vancouver:20241211T120000
DTSTAMP:20260421T082254
CREATED:20241202T233713Z
LAST-MODIFIED:20241202T233713Z
UID:3793-1733918400-1733918400@strathconahotel.com
SUMMARY:UEFA Champion's League
DESCRIPTION:B. Dortmund vs Barcelona \n 
URL:https://strathconahotel.com/event/uefa-champions-league
CATEGORIES:Sports Events
ATTACH;FMTTYPE=image/jpeg:https://strathconahotel.com/wp-content/uploads/2024/12/UEFA-Day-6-2-IG-SQUARE-scaled.jpg
END:VEVENT
BEGIN:VEVENT
DTSTART;TZID=America/Vancouver:20241211T120000
DTEND;TZID=America/Vancouver:20241211T140000
DTSTAMP:20260421T082254
CREATED:20250115T203830Z
LAST-MODIFIED:20250115T203830Z
UID:4007-1733918400-1733925600@strathconahotel.com
SUMMARY:UEFA Champions League
DESCRIPTION:We are showing matches of this league in the Games Room! \nDec 10 Atlalanta vs Real Madrid at 12pm \nDec 11 B. Dortmund vs Barcelona at 12pm \nJan 21 Liverpool vs Lille at 12pm \nJan 22 PSG vs Manchester City at 12pm
URL:https://strathconahotel.com/event/uefa-champions-league-4/2024-12-11
CATEGORIES:Special
ATTACH;FMTTYPE=image/jpeg:https://strathconahotel.com/wp-content/uploads/2025/01/UEFA-Day-6-7-IG-STORY.jpg
END:VEVENT
BEGIN:VEVENT
DTSTART;TZID=America/Vancouver:20241212T190000
DTEND;TZID=America/Vancouver:20241212T190000
DTSTAMP:20260421T082254
CREATED:20241122T213517Z
LAST-MODIFIED:20241122T213517Z
UID:3692-1734030000-1734030000@strathconahotel.com
SUMMARY:NHL Panthers at Canucks
DESCRIPTION:Home of the Canucks \nNHL Panthers at Canucks
URL:https://strathconahotel.com/event/nhl-panthers-at-canucks
CATEGORIES:Sports Events
ATTACH;FMTTYPE=image/png:https://strathconahotel.com/wp-content/uploads/2024/11/Home-Of-The-6-1.png
END:VEVENT
BEGIN:VEVENT
DTSTART;TZID=America/Vancouver:20241213T173000
DTEND;TZID=America/Vancouver:20241213T173000
DTSTAMP:20260421T082254
CREATED:20241122T040022Z
LAST-MODIFIED:20241204T170710Z
UID:3671-1734111000-1734111000@strathconahotel.com
SUMMARY:Jason Buie Memorial Yuletide Blues
DESCRIPTION:Victoria Blues Society and The Mustard Seed Presents \nJason Buie Memorial Yuletide Blues \nFriday Dec 13th \n$20 at the door \nClick here to buy a ticket online \n5:30pm door 6:00pm start \n50/50 draw. \nVBS’ annual fundraiser for the Mustard Seed Food Bank. $20 admission goes directly to the Mustard Seed\, no food donations please. In return you get a great night of blues with 5 Victoria bands. \nHelen Davies Band \nGary Preston Blues Band \nRattleShake \nJack Lavin’s Rhythm Train \nAuntie Kate and the Uncles of Funk \n  \n 
URL:https://strathconahotel.com/event/jason-buie-memorial-yuletide-blues
CATEGORIES:Special
ATTACH;FMTTYPE=image/jpeg:https://strathconahotel.com/wp-content/uploads/2024/11/Yuletide-IG-STORY.jpg
END:VEVENT
BEGIN:VEVENT
DTSTART;TZID=America/Vancouver:20241213T220000
DTEND;TZID=America/Vancouver:20241213T220000
DTSTAMP:20260421T082254
CREATED:20241122T041758Z
LAST-MODIFIED:20241204T222753Z
UID:3680-1734127200-1734127200@strathconahotel.com
SUMMARY:Deck The Halls
DESCRIPTION:DJ’s\, Christmas Presents\, $3.50 Drink Specials & More \n$5 At the door.  Free if you wear a ugly Christmas sweater. \nCome celebrate the holiday session at Wicket Hall! The best music with the best people.  Dance party in Dec! \nDJ Yeezy Yee & DJ Kaastro \nHappy Holidays!
URL:https://strathconahotel.com/event/deck-the-halls/2024-12-13
CATEGORIES:Weekly
ATTACH;FMTTYPE=image/jpeg:https://strathconahotel.com/wp-content/uploads/2024/11/Deck-The-Hall-IG-STORY-Copy.jpg
END:VEVENT
BEGIN:VEVENT
DTSTART;TZID=America/Vancouver:20241214T180000
DTEND;TZID=America/Vancouver:20241214T180000
DTSTAMP:20260421T082254
CREATED:20241106T202050Z
LAST-MODIFIED:20241106T202050Z
UID:3606-1734199200-1734199200@strathconahotel.com
SUMMARY:Dead Bob
DESCRIPTION:Dead Bob is the solo incarnation of John Wright\, drummer from long time and apparently legendary but now retired Punk rock band No Means No. \nGet Tickets Here \nPresale $25 \nAt Door $30
URL:https://strathconahotel.com/event/dead-bob
CATEGORIES:Special
ATTACH;FMTTYPE=image/jpeg:https://strathconahotel.com/wp-content/uploads/2024/11/Dead-Bob-IG-STORY.jpg
END:VEVENT
BEGIN:VEVENT
DTSTART;TZID=America/Vancouver:20241214T190000
DTEND;TZID=America/Vancouver:20241214T190000
DTSTAMP:20260421T082254
CREATED:20241122T213652Z
LAST-MODIFIED:20241122T213652Z
UID:3694-1734202800-1734202800@strathconahotel.com
SUMMARY:NHL Bruins at Canucks
DESCRIPTION:Home of the Canucks \nNHL Bruins at Canucks
URL:https://strathconahotel.com/event/nhl-bruins-at-canucks
CATEGORIES:Sports Events
ATTACH;FMTTYPE=image/png:https://strathconahotel.com/wp-content/uploads/2024/11/Home-Of-The-7-1.png
END:VEVENT
BEGIN:VEVENT
DTSTART;TZID=America/Vancouver:20241215T171000
DTEND;TZID=America/Vancouver:20241215T171000
DTSTAMP:20260421T082254
CREATED:20241122T220823Z
LAST-MODIFIED:20241122T220823Z
UID:3712-1734282600-1734282600@strathconahotel.com
SUMMARY:NFL Packers at Seahawks
DESCRIPTION:Home of the Seahawks \nNFL Packers at Seahawks
URL:https://strathconahotel.com/event/nfl-packers-at-seahawks
CATEGORIES:Sports Events
ATTACH;FMTTYPE=image/png:https://strathconahotel.com/wp-content/uploads/2024/11/Home-Of-The-15.png
END:VEVENT
BEGIN:VEVENT
DTSTART;TZID=America/Vancouver:20241216T193000
DTEND;TZID=America/Vancouver:20241216T193000
DTSTAMP:20260421T082254
CREATED:20241122T213853Z
LAST-MODIFIED:20241122T213853Z
UID:3696-1734377400-1734377400@strathconahotel.com
SUMMARY:NHL Avalanche at Canucks
DESCRIPTION:Home of the Canucks \nNHL Avalanche at Canucks
URL:https://strathconahotel.com/event/nhl-avalanche-at-canucks
CATEGORIES:Sports Events
ATTACH;FMTTYPE=image/png:https://strathconahotel.com/wp-content/uploads/2024/11/Home-Of-The-8-1.png
END:VEVENT
BEGIN:VEVENT
DTSTART;TZID=America/Vancouver:20241218T190000
DTEND;TZID=America/Vancouver:20241218T190000
DTSTAMP:20260421T082254
CREATED:20241122T214109Z
LAST-MODIFIED:20241218T063753Z
UID:3698-1734548400-1734548400@strathconahotel.com
SUMMARY:NHL Canucks at Utah
DESCRIPTION:Home of the Canucks \nNHL Canucks at Utah \n 
URL:https://strathconahotel.com/event/nhl-canucks-at-utah
CATEGORIES:Sports Events
ATTACH;FMTTYPE=image/png:https://strathconahotel.com/wp-content/uploads/2024/11/Sports.png
END:VEVENT
BEGIN:VEVENT
DTSTART;TZID=America/Vancouver:20241219T190000
DTEND;TZID=America/Vancouver:20241219T190000
DTSTAMP:20260421T082254
CREATED:20241122T214310Z
LAST-MODIFIED:20241218T063840Z
UID:3700-1734634800-1734634800@strathconahotel.com
SUMMARY:NHL Canucks at Golden Knights
DESCRIPTION:Home of the Canucks \nNHL Canucks at Golden Knights \n 
URL:https://strathconahotel.com/event/nhl-canucks-at-golden-knights
CATEGORIES:Sports Events
ATTACH;FMTTYPE=image/png:https://strathconahotel.com/wp-content/uploads/2024/11/Sports-1.png
END:VEVENT
BEGIN:VEVENT
DTSTART;TZID=America/Vancouver:20241220T200000
DTEND;TZID=America/Vancouver:20241220T200000
DTSTAMP:20260421T082254
CREATED:20241126T054903Z
LAST-MODIFIED:20241126T054903Z
UID:3749-1734724800-1734724800@strathconahotel.com
SUMMARY:Golden BSP and Guests - The Nightmare Before Christmas
DESCRIPTION:Don’t miss the biggest holiday party this holiday season.Golden BSP’s headlining with opening acts from Mr. ESQ\, YD From The North\, Filthy Clean Pro’s\, Reflectionz\, Vic City Soldiers\, Lord Condor\, Jonny G\, and Yukalipis— DJ sets from Benny the Jet and Fungus Humongus.\n\nDoors at 8 PM—\nTickets $20 – $25 at Door\nTickets Here
URL:https://strathconahotel.com/event/golden-bsp-and-guests-the-nightmare-before-christmas
CATEGORIES:Special
ATTACH;FMTTYPE=image/png:https://strathconahotel.com/wp-content/uploads/2024/11/golden_FB-STORY.png
END:VEVENT
BEGIN:VEVENT
DTSTART;TZID=America/Vancouver:20241221T190000
DTEND;TZID=America/Vancouver:20241221T190000
DTSTAMP:20260421T082254
CREATED:20241122T214457Z
LAST-MODIFIED:20241218T063956Z
UID:3702-1734807600-1734807600@strathconahotel.com
SUMMARY:NHL Senators at Canucks
DESCRIPTION:Home of the Canucks \nNHL Senators at Canucks
URL:https://strathconahotel.com/event/nhl-senators-at-canucks
CATEGORIES:Sports Events
ATTACH;FMTTYPE=image/png:https://strathconahotel.com/wp-content/uploads/2024/11/Sports-3.png
END:VEVENT
BEGIN:VEVENT
DTSTART;TZID=America/Vancouver:20241221T213000
DTEND;TZID=America/Vancouver:20241221T213000
DTSTAMP:20260421T082254
CREATED:20241205T014716Z
LAST-MODIFIED:20241205T014716Z
UID:3804-1734816600-1734816600@strathconahotel.com
SUMMARY:Rakata Holiday Edition
DESCRIPTION:🎉✨ One Last Rakata for the Holidays! 🎄🔥 \nYou asked\, and we’re delivering! 🎁 Before the year ends\, we’re bringing you one final Rakata to cap off 2024 in style. No Santa this time\, but we’ve got something even better—JAYVILLE\, and he’s bringing a sack full of Reggaeton bangers and Latin hits that’ll blow the roof off Wicket Hall! 🎶💃 \nWhen: December 21st | 10:00 PM – 2:00 AM Where: Wicket Hall (919 Douglas St) Sounds by: Jayville 🎧🔥 \nGet ready to vibe with great drinks\, incredible music\, and the holiday energy you won’t forget. Let’s close out the year with a bang! 🌟🍹 \n🎊 Don’t miss the ultimate holiday send-off—see you there! ❤️ \nTickets Here
URL:https://strathconahotel.com/event/rakata-holiday-edition
CATEGORIES:Special
ATTACH;FMTTYPE=image/jpeg:https://strathconahotel.com/wp-content/uploads/2024/12/Rakata-Holiday-IG-STORY.jpg
END:VEVENT
BEGIN:VEVENT
DTSTART;TZID=America/Vancouver:20241222T130000
DTEND;TZID=America/Vancouver:20241222T130000
DTSTAMP:20260421T082254
CREATED:20241122T221019Z
LAST-MODIFIED:20241218T064054Z
UID:3714-1734872400-1734872400@strathconahotel.com
SUMMARY:NFL Vikings at Seahawks
DESCRIPTION:Home of the Seahawks \nNFL Vikings at Seahawks
URL:https://strathconahotel.com/event/nfl-vikings-at-seahawks
CATEGORIES:Sports Events
ATTACH;FMTTYPE=image/png:https://strathconahotel.com/wp-content/uploads/2024/11/Sports-19.png
END:VEVENT
END:VCALENDAR