BEGIN:VCALENDAR
VERSION:2.0
PRODID:-//The Strath - ECPv6.8.1//NONSGML v1.0//EN
CALSCALE:GREGORIAN
METHOD:PUBLISH
X-WR-CALNAME:The Strath
X-ORIGINAL-URL:https://strathconahotel.com
X-WR-CALDESC:Events for The Strath
REFRESH-INTERVAL;VALUE=DURATION:PT1H
X-Robots-Tag:noindex
X-PUBLISHED-TTL:PT1H
BEGIN:VTIMEZONE
TZID:America/Vancouver
BEGIN:DAYLIGHT
TZOFFSETFROM:-0800
TZOFFSETTO:-0700
TZNAME:PDT
DTSTART:20240310T100000
END:DAYLIGHT
BEGIN:STANDARD
TZOFFSETFROM:-0700
TZOFFSETTO:-0800
TZNAME:PST
DTSTART:20241103T090000
END:STANDARD
BEGIN:DAYLIGHT
TZOFFSETFROM:-0800
TZOFFSETTO:-0700
TZNAME:PDT
DTSTART:20250309T100000
END:DAYLIGHT
BEGIN:STANDARD
TZOFFSETFROM:-0700
TZOFFSETTO:-0800
TZNAME:PST
DTSTART:20251102T090000
END:STANDARD
END:VTIMEZONE
BEGIN:VEVENT
DTSTART;TZID=America/Vancouver:20250127T163000
DTEND;TZID=America/Vancouver:20250127T163000
DTSTAMP:20260421T131046
CREATED:20250112T202439Z
LAST-MODIFIED:20250112T202439Z
UID:3988-1737995400-1737995400@strathconahotel.com
SUMMARY:NHL Canucks vs Blues
DESCRIPTION:Home of the Canucks \nNHL Canucks vs Blues
URL:https://strathconahotel.com/event/nhl-canucks-vs-blues
CATEGORIES:Sports Events
ATTACH;FMTTYPE=image/png:https://strathconahotel.com/wp-content/uploads/2025/01/Sports-26.png
END:VEVENT
BEGIN:VEVENT
DTSTART;TZID=America/Vancouver:20250126T153000
DTEND;TZID=America/Vancouver:20250126T180000
DTSTAMP:20260421T131046
CREATED:20250121T235025Z
LAST-MODIFIED:20250125T062413Z
UID:4017-1737905400-1737914400@strathconahotel.com
SUMMARY:AFC Championship Game
DESCRIPTION:🏈 Get Ready for the AFC Championship Game Tailgate! 🏈 \nThis Sunday\, January 26th\, we’re throwing the ultimate tailgate to celebrate the American Football Conference Championship Game with a showdown between the Buffalo Bills and the Kansas City Chiefs! Whether you’re a die-hard fan or just here for the vibes\, this is THE place to be. \n🍔 Special NFL Food & Drink Menu\nFuel up with a mouth-watering selection of tailgate-inspired eats—from wings to buckets of beer\, your taste buds cheering louder than the crowd. \n🎯 $5 Square Board\nGet in on the action with our $5 Square Board—it’s your chance to win big while you watch the game! Squares will be available before the game starting at 12pm or for pre-purchase on Saturday\, January 25th from 2-4pm in the Games Room. Don’t miss out\, this is your shot at some serious prizes! \n💥 Scratch & Win Vouchers\nWith every purchase of a Molson\, we’ll be handing out scratch and win vouchers that could score you some awesome prizes! Who doesn’t love free stuff while cheering for your team? \n🏁 Kickoff at 3:30 PM\nThe game kicks off at 3:30pm\, but the party starts well before then. Come early\, get comfy\, and settle in for an afternoon of high-energy action and epic moments. \n🔥 Join us for the BEST tailgate experience in town—let’s make this AFC Championship one to remember! \n#BillsMafia #ChiefsKingdom #TailgateParty #AFCChampionship #GameDayVibes #SquareBoardFun
URL:https://strathconahotel.com/event/afc-championship-game
CATEGORIES:Special,Sports Events
ATTACH;FMTTYPE=image/jpeg:https://strathconahotel.com/wp-content/uploads/2025/01/AFC-Championship-IG-STORY-copy.jpg
END:VEVENT
BEGIN:VEVENT
DTSTART;TZID=America/Vancouver:20250125T190000
DTEND;TZID=America/Vancouver:20250125T190000
DTSTAMP:20260421T131046
CREATED:20250112T202224Z
LAST-MODIFIED:20250112T202224Z
UID:3986-1737831600-1737831600@strathconahotel.com
SUMMARY:NHL Canucks vs Capitals
DESCRIPTION:Home of the Canucks \nNHL Canucks vs Capitals
URL:https://strathconahotel.com/event/nhl-canucks-vs-capitals-2
CATEGORIES:Sports Events
ATTACH;FMTTYPE=image/png:https://strathconahotel.com/wp-content/uploads/2025/01/Sports-25.png
END:VEVENT
BEGIN:VEVENT
DTSTART;TZID=America/Vancouver:20250124T220000
DTEND;TZID=America/Vancouver:20250124T220000
DTSTAMP:20260421T131046
CREATED:20250110T034218Z
LAST-MODIFIED:20250115T224104Z
UID:3977-1737756000-1737756000@strathconahotel.com
SUMMARY:Female Pop Icons Dance Party
DESCRIPTION:🎤✨ The Ultimate Pop Icons Party: 90’s to Now 🎶💃 \nGet ready for the pop party of the year! A night dedicated to the most iconic female popstars from the 90’s to today—think Britney\, Beyoncé\, Lady Gaga\, Rihanna\, and more—spinning their greatest hits all night long. This is your chance to dance\, sing\, and celebrate with the pop queens who shaped music history\, all in one unforgettable night. \nDate: January 24\, 2025\nTime: 10pm-2am\nVenue: Wicket Hall \n🌟 Why You Can’t Miss This Party 🌟\nThis is not your average night out—this is a time machine taking you on a musical journey through decades of pop perfection! From Britney’s early hits to today’s chart-toppers by Ariana Grande\, Dua Lipa\, and Taylor Swift\, the night will be anthems on repeat. \n🎶 Expect: \n\nNon-stop DJ sets featuring all your favorite pop anthems\nIncredible visual effects to bring you inside the music videos of your dreams\nPopstar-inspired party vibes with themed decor\n\n🥂 Ticket Perks: \n\nLimited tickets available – don’t wait to get yours!\nEach ticket includes a drink (choose from a cocktail\, beer\, or mocktail) to kick off your night in style.\n\n💃 Dress Code:\nPopstar glam is a MUST! Whether you’re rocking a Spice Girls look\, channeling Lady Gaga’s wildest outfits\, or dancing in your best Beyoncé ensemble\, we want to see you embody your favorite diva. Bonus points if you go all out—you might just win a prize for the best popstar transformation of the night! \n💥 Cover Charge Details 💥 \n\nPre-sale tickets are limited\, click here to purchase!\nIf you miss the ticket sales\, don’t worry—there’s a $10 cover charge at the door for entry.\nNo cover charge if you show up dressed like your favorite pop star—yes\, really! The more iconic\, the better. We love a full-on popstar look\, and we’re ready to reward you for it.\n\n🎟️ Get your tickets today! Once they’re gone\, they’re gone. Trust us\, you won’t want to miss the biggest pop event of the year. \n\nThis is your night to shine like the pop star you were born to be. Dance\, sing\, and party to the hits that made you who you are—come for the music\, stay for the pop magic! Brought to you by Beachfire Entertainment. ✨ 
URL:https://strathconahotel.com/event/female-pop-icons-dance-party
CATEGORIES:Special
ATTACH;FMTTYPE=image/jpeg:https://strathconahotel.com/wp-content/uploads/2025/01/Pop-Icon-Night-IG-Story-1.jpg
END:VEVENT
BEGIN:VEVENT
DTSTART;TZID=America/Vancouver:20250123T180000
DTEND;TZID=America/Vancouver:20250123T180000
DTSTAMP:20260421T131046
CREATED:20250112T202009Z
LAST-MODIFIED:20250112T202009Z
UID:3984-1737655200-1737655200@strathconahotel.com
SUMMARY:NHL Canucks vs Oilers
DESCRIPTION:Home of the Canucks \nNHL Canucks vs Oilers
URL:https://strathconahotel.com/event/nhl-canucks-vs-oilers-2
CATEGORIES:Sports Events
ATTACH;FMTTYPE=image/png:https://strathconahotel.com/wp-content/uploads/2025/01/Sports-24.png
END:VEVENT
BEGIN:VEVENT
DTSTART;TZID=America/Vancouver:20250122T120000
DTEND;TZID=America/Vancouver:20250122T140000
DTSTAMP:20260421T131046
CREATED:20250115T203830Z
LAST-MODIFIED:20250115T203830Z
UID:4009-1737547200-1737554400@strathconahotel.com
SUMMARY:UEFA Champions League
DESCRIPTION:We are showing matches of this league in the Games Room! \nDec 10 Atlalanta vs Real Madrid at 12pm \nDec 11 B. Dortmund vs Barcelona at 12pm \nJan 21 Liverpool vs Lille at 12pm \nJan 22 PSG vs Manchester City at 12pm
URL:https://strathconahotel.com/event/uefa-champions-league-4/2025-01-22
CATEGORIES:Special
ATTACH;FMTTYPE=image/jpeg:https://strathconahotel.com/wp-content/uploads/2025/01/UEFA-Day-6-7-IG-STORY.jpg
END:VEVENT
BEGIN:VEVENT
DTSTART;TZID=America/Vancouver:20250122T120000
DTEND;TZID=America/Vancouver:20250122T120000
DTSTAMP:20260421T131046
CREATED:20241202T233956Z
LAST-MODIFIED:20241202T233956Z
UID:3797-1737547200-1737547200@strathconahotel.com
SUMMARY:UEFA Champion's League
DESCRIPTION:PSG vs Manchester City
URL:https://strathconahotel.com/event/uefa-champions-league-3
CATEGORIES:Sports Events
ATTACH;FMTTYPE=image/jpeg:https://strathconahotel.com/wp-content/uploads/2024/12/UEFA-Day-7-IG-SQUARE-1-scaled.jpg
END:VEVENT
BEGIN:VEVENT
DTSTART;TZID=America/Vancouver:20250121T190000
DTEND;TZID=America/Vancouver:20250121T190000
DTSTAMP:20260421T131046
CREATED:20250112T201748Z
LAST-MODIFIED:20250112T201748Z
UID:3982-1737486000-1737486000@strathconahotel.com
SUMMARY:NHL Canucks vs Sabres
DESCRIPTION:Home of the Canucks \nNHL Canucks vs Sabres
URL:https://strathconahotel.com/event/nhl-canucks-vs-sabres
CATEGORIES:Sports Events
ATTACH;FMTTYPE=image/png:https://strathconahotel.com/wp-content/uploads/2025/01/Sports-23.png
END:VEVENT
BEGIN:VEVENT
DTSTART;TZID=America/Vancouver:20250121T120000
DTEND;TZID=America/Vancouver:20250121T140000
DTSTAMP:20260421T131046
CREATED:20250115T203830Z
LAST-MODIFIED:20250115T203830Z
UID:4008-1737460800-1737468000@strathconahotel.com
SUMMARY:UEFA Champions League
DESCRIPTION:We are showing matches of this league in the Games Room! \nDec 10 Atlalanta vs Real Madrid at 12pm \nDec 11 B. Dortmund vs Barcelona at 12pm \nJan 21 Liverpool vs Lille at 12pm \nJan 22 PSG vs Manchester City at 12pm
URL:https://strathconahotel.com/event/uefa-champions-league-4/2025-01-21
CATEGORIES:Special
ATTACH;FMTTYPE=image/jpeg:https://strathconahotel.com/wp-content/uploads/2025/01/UEFA-Day-6-7-IG-STORY.jpg
END:VEVENT
BEGIN:VEVENT
DTSTART;TZID=America/Vancouver:20250121T120000
DTEND;TZID=America/Vancouver:20250121T120000
DTSTAMP:20260421T131046
CREATED:20241202T233845Z
LAST-MODIFIED:20241202T233845Z
UID:3795-1737460800-1737460800@strathconahotel.com
SUMMARY:UEFA Champion's League
DESCRIPTION:Liverpool vs Lille
URL:https://strathconahotel.com/event/uefa-champions-league-2
CATEGORIES:Sports Events
ATTACH;FMTTYPE=image/jpeg:https://strathconahotel.com/wp-content/uploads/2024/12/UEFA-Day-7-IG-SQUARE-scaled.jpg
END:VEVENT
BEGIN:VEVENT
DTSTART;TZID=America/Vancouver:20250118T213000
DTEND;TZID=America/Vancouver:20250118T213000
DTSTAMP:20260421T131046
CREATED:20250108T204459Z
LAST-MODIFIED:20250110T192113Z
UID:3962-1737235800-1737235800@strathconahotel.com
SUMMARY:Rakata
DESCRIPTION:About this event\n\n🔥 Victoria’s PREMIER Latin night\, RAKATA\, is back and bigger than ever! Presented by Madness & Bounce\, we’re taking over Wicket Hall on January 18th from 9:30 PM to 2:00 AM for an epic night of Latin vibes! \nTickets Here \n🎧 Featuring: \nToronto’s heavy-hitting Latin DJ Itz Nico P is making his Victoria debut! He will be delivering reggaeton bangers all night\, alongside a mix of salsa\, merengue\, dembow\, and more! \nExpect: 🎶 Incredible music all night 🍹 Delicious drinks 💃 Unforgettable vibes \n📍 Wicket Hall (919 Douglas St) 🎟️ Don’t wait—secure your tickets now for the hottest Latin night in town! \nBring your energy.
URL:https://strathconahotel.com/event/rakata
CATEGORIES:Special
ATTACH;FMTTYPE=image/jpeg:https://strathconahotel.com/wp-content/uploads/2025/01/Rakata-IG-STORY.jpg
END:VEVENT
BEGIN:VEVENT
DTSTART;TZID=America/Vancouver:20250118T190000
DTEND;TZID=America/Vancouver:20250118T190000
DTSTAMP:20260421T131046
CREATED:20250112T201552Z
LAST-MODIFIED:20250112T201552Z
UID:3980-1737226800-1737226800@strathconahotel.com
SUMMARY:NHL Canucks vs Oilers
DESCRIPTION:Home of the Canucks \nNHL Canucks vs Oilers
URL:https://strathconahotel.com/event/nhl-canucks-vs-oilers
CATEGORIES:Sports Events
ATTACH;FMTTYPE=image/png:https://strathconahotel.com/wp-content/uploads/2025/01/Sports-22.png
END:VEVENT
BEGIN:VEVENT
DTSTART;TZID=America/Vancouver:20250117T200000
DTEND;TZID=America/Vancouver:20250117T200000
DTSTAMP:20260421T131046
CREATED:20250108T204206Z
LAST-MODIFIED:20250108T204207Z
UID:3960-1737144000-1737144000@strathconahotel.com
SUMMARY:Tumblin' Dice
DESCRIPTION:Come and catch Victoria’s very own: Tumblin’ Dice!! \nCover is $8 \nDoors at 8 \nShow starts at 9!
URL:https://strathconahotel.com/event/tumblin-dice
CATEGORIES:Special
ATTACH;FMTTYPE=image/jpeg:https://strathconahotel.com/wp-content/uploads/2025/01/large-Tumblin-Dice-IG-STORY.jpg
END:VEVENT
BEGIN:VEVENT
DTSTART;TZID=America/Vancouver:20250116T190000
DTEND;TZID=America/Vancouver:20250116T190000
DTSTAMP:20260421T131046
CREATED:20241218T070132Z
LAST-MODIFIED:20241218T070132Z
UID:3867-1737054000-1737054000@strathconahotel.com
SUMMARY:NHL Canucks vs Kings
DESCRIPTION:Home of the Canucks \nNHL Canucks vs Kings
URL:https://strathconahotel.com/event/nhl-canucks-vs-kings
CATEGORIES:Sports Events
ATTACH;FMTTYPE=image/png:https://strathconahotel.com/wp-content/uploads/2024/12/Sports-17.png
END:VEVENT
BEGIN:VEVENT
DTSTART;TZID=America/Vancouver:20250114T170000
DTEND;TZID=America/Vancouver:20250114T170000
DTSTAMP:20260421T131046
CREATED:20241218T065907Z
LAST-MODIFIED:20241218T065907Z
UID:3865-1736874000-1736874000@strathconahotel.com
SUMMARY:NHL Canucks vs Jets
DESCRIPTION:Home of the Canucks \nNHL Canucks vs Jets
URL:https://strathconahotel.com/event/nhl-canucks-vs-jets
CATEGORIES:Sports Events
ATTACH;FMTTYPE=image/png:https://strathconahotel.com/wp-content/uploads/2024/12/Sports-16.png
END:VEVENT
BEGIN:VEVENT
DTSTART;TZID=America/Vancouver:20250111T210000
DTEND;TZID=America/Vancouver:20250111T210000
DTSTAMP:20260421T131046
CREATED:20250109T193831Z
LAST-MODIFIED:20250109T194030Z
UID:3970-1736629200-1736629200@strathconahotel.com
SUMMARY:UVIC Back to School Party - SendSZN Group
DESCRIPTION:Presented by SENDSZN and Wildin Media Group\n\nWE ARE HOSTING THE BIGGEST BACK TO SCHOOL PARTY IN VICTORIA 🔥 \n\n\n\nBe ready to Send it all night with DJ TALON \nTHEME: APRES SKI ⛷️ \nDM @SENDSZNPARTIES WITH ANY SONG REQUESTS 🎶 \nThis event is 19+ so please bring two pieces of government ID to get in \nTickets Here \n 
URL:https://strathconahotel.com/event/uvic-back-to-school-party-sendszn
CATEGORIES:Special
ATTACH;FMTTYPE=image/jpeg:https://strathconahotel.com/wp-content/uploads/2025/01/SendSZN-IG-STORY.jpg
END:VEVENT
BEGIN:VEVENT
DTSTART;TZID=America/Vancouver:20250111T160000
DTEND;TZID=America/Vancouver:20250111T160000
DTSTAMP:20260421T131046
CREATED:20241218T065718Z
LAST-MODIFIED:20241218T065718Z
UID:3863-1736611200-1736611200@strathconahotel.com
SUMMARY:NHL Canucks vs Maple Leafs
DESCRIPTION:Home of the Canucks \nNHL Canucks vs Maple Leafs
URL:https://strathconahotel.com/event/nhl-canucks-vs-maple-leafs
CATEGORIES:Sports Events
ATTACH;FMTTYPE=image/png:https://strathconahotel.com/wp-content/uploads/2024/12/Sports-14.png
END:VEVENT
BEGIN:VEVENT
DTSTART;TZID=America/Vancouver:20250110T220000
DTEND;TZID=America/Vancouver:20250110T220000
DTSTAMP:20260421T131046
CREATED:20250109T193121Z
LAST-MODIFIED:20250109T193121Z
UID:3968-1736546400-1736546400@strathconahotel.com
SUMMARY:MAMMA MIA: Back to School Party
DESCRIPTION:🌴✨ MAMMA MIA: Back to School Party 🌴✨ \nTickets Here \nCalling all UVIC\, Camosun students and ABBA fans in general —it’s time to party like you’re on Kalokairi Island! 🌊🎶 On Friday Jan 10th\, join us at Wicket Hall from 10:00 PM to 2:00 AM for a night inspired by the iconic Mamma Mia movie series. Get ready to dance\, sing along to all the ABBA classics\, and dress in your best blue and white outfits! 💙🤍 \nWe’re turning Wicket Hall into a Mediterranean paradise – and we’re going to bring the vibes\, beats\, and décor but we need you to bring the esthetic outfits and energy! Whether you’re a student or just looking for an unforgettable night\, everyone is welcome to join the fun. 🎉 \nDon’t miss the ultimate back-to-school party—let’s kick off the second semester in style! \n💃 🎶 Gimme! Gimme! Gimme! 🎶 🕺 \nEVENT INFO: \n📅 When: Jan 10th 10:00 PM – 2:00 AM 📍 Where: Wicket Hall (919 Douglas St) 🎵 Music: Abba\, Disco Fusion\, Top 40 🎟 Tickets: Purchase online in advance to save\, or pay $20.00 at the door 🎵 Artists: Yeezy Yee & Nims
URL:https://strathconahotel.com/event/mamma-mia-back-to-school-party
CATEGORIES:Special
ATTACH;FMTTYPE=image/jpeg:https://strathconahotel.com/wp-content/uploads/2025/01/Mamma-Mia-Night-IG-Story.jpg
END:VEVENT
BEGIN:VEVENT
DTSTART;TZID=America/Vancouver:20250110T160000
DTEND;TZID=America/Vancouver:20250110T160000
DTSTAMP:20260421T131046
CREATED:20241218T065509Z
LAST-MODIFIED:20241218T065509Z
UID:3861-1736524800-1736524800@strathconahotel.com
SUMMARY:NHL Canucks vs Hurricanes
DESCRIPTION:Home of the Canucks \nNHL Canucks vs Hurricanes \n 
URL:https://strathconahotel.com/event/nhl-canucks-vs-hurricanes
CATEGORIES:Sports Events
ATTACH;FMTTYPE=image/png:https://strathconahotel.com/wp-content/uploads/2024/12/Sports-13.png
END:VEVENT
BEGIN:VEVENT
DTSTART;TZID=America/Vancouver:20250108T163000
DTEND;TZID=America/Vancouver:20250108T163000
DTSTAMP:20260421T131046
CREATED:20241218T065333Z
LAST-MODIFIED:20241218T065333Z
UID:3859-1736353800-1736353800@strathconahotel.com
SUMMARY:NHL Canucks vs Capitals
DESCRIPTION:Home of the Canucks \nNHL Canucks vs Capitals
URL:https://strathconahotel.com/event/nhl-canucks-vs-capitals
CATEGORIES:Sports Events
ATTACH;FMTTYPE=image/png:https://strathconahotel.com/wp-content/uploads/2024/12/Sports-12.png
END:VEVENT
BEGIN:VEVENT
DTSTART;TZID=America/Vancouver:20250106T163000
DTEND;TZID=America/Vancouver:20250106T163000
DTSTAMP:20260421T131046
CREATED:20241218T065117Z
LAST-MODIFIED:20241218T065117Z
UID:3857-1736181000-1736181000@strathconahotel.com
SUMMARY:NHL Canucks vs Canadiens
DESCRIPTION:Home of the Canucks \nNHL Canucks vs Canadiens
URL:https://strathconahotel.com/event/nhl-canucks-vs-canadiens
CATEGORIES:Sports Events
ATTACH;FMTTYPE=image/png:https://strathconahotel.com/wp-content/uploads/2024/12/Sports-9.png
END:VEVENT
BEGIN:VEVENT
DTSTART;TZID=America/Vancouver:20250103T190000
DTEND;TZID=America/Vancouver:20250103T190000
DTSTAMP:20260421T131046
CREATED:20241218T064907Z
LAST-MODIFIED:20241218T064907Z
UID:3855-1735930800-1735930800@strathconahotel.com
SUMMARY:NHL Canucks vs Predators
DESCRIPTION:Home of the Canucks \nNHL Canucks vs Predators
URL:https://strathconahotel.com/event/nhl-canucks-vs-predators
CATEGORIES:Sports Events
ATTACH;FMTTYPE=image/png:https://strathconahotel.com/wp-content/uploads/2024/12/Sports-8.png
END:VEVENT
BEGIN:VEVENT
DTSTART;TZID=America/Vancouver:20250102T190000
DTEND;TZID=America/Vancouver:20250102T190000
DTSTAMP:20260421T131046
CREATED:20241218T064715Z
LAST-MODIFIED:20241218T064715Z
UID:3853-1735844400-1735844400@strathconahotel.com
SUMMARY:NHL Canucks vs Kraken
DESCRIPTION:Home of the Canucks \nNHL Canucks vs Kraken
URL:https://strathconahotel.com/event/nhl-canucks-vs-kraken
CATEGORIES:Sports Events
ATTACH;FMTTYPE=image/png:https://strathconahotel.com/wp-content/uploads/2024/12/Sports-7.png
END:VEVENT
BEGIN:VEVENT
DTSTART;TZID=America/Vancouver:20241231T210000
DTEND;TZID=America/Vancouver:20241231T210000
DTSTAMP:20260421T131046
CREATED:20241212T013548Z
LAST-MODIFIED:20241212T013857Z
UID:3839-1735678800-1735678800@strathconahotel.com
SUMMARY:New Years Party 4 Parties - 1 Cover
DESCRIPTION:Hottest DJs spinning beats that will have you moving all night long\, epic countdown\, 4 parties 1 cover\, this is the party you don’t want to miss.\n\n\n\nMaple Room\, Clubhouse\, Sticky Wicket and Games Room. \n\n\nDJ’s Degree One and DJ Tanaka playing the finest tracks.\n\n\n$20 at the door gives you access to all 4 rooms.\n\n\n9pm\n\n\n\nBiggest New Years Party in Victoria! See you there.\n\n\n \n\n\n#newyear #thestrath #locallegends #partytime
URL:https://strathconahotel.com/event/new-years-party-4-parties-1-cover
CATEGORIES:Special
ATTACH;FMTTYPE=image/jpeg:https://strathconahotel.com/wp-content/uploads/2024/12/NYE-Main-Floor-IG-STORY.jpg
END:VEVENT
BEGIN:VEVENT
DTSTART;TZID=America/Vancouver:20241231T210000
DTEND;TZID=America/Vancouver:20241231T210000
DTSTAMP:20260421T131046
CREATED:20241128T224434Z
LAST-MODIFIED:20241231T001519Z
UID:3789-1735678800-1735678800@strathconahotel.com
SUMMARY:NYE All That Glitters
DESCRIPTION:
URL:https://strathconahotel.com/event/nye-all-that-glitters
CATEGORIES:Special
ATTACH;FMTTYPE=image/jpeg:https://strathconahotel.com/wp-content/uploads/2024/11/advance-tickets-sold-out-tickets-available-at-the-door.jpg
END:VEVENT
BEGIN:VEVENT
DTSTART;TZID=America/Vancouver:20241231T180000
DTEND;TZID=America/Vancouver:20241231T180000
DTSTAMP:20260421T131046
CREATED:20241122T214956Z
LAST-MODIFIED:20241218T064429Z
UID:3708-1735668000-1735668000@strathconahotel.com
SUMMARY:NHL Canucks at Flames
DESCRIPTION:Home of the Canucks \nNHL Canucks at Flames
URL:https://strathconahotel.com/event/nhl-canucks-at-flames
CATEGORIES:Sports Events
ATTACH;FMTTYPE=image/png:https://strathconahotel.com/wp-content/uploads/2024/11/Sports-6.png
END:VEVENT
BEGIN:VEVENT
DTSTART;TZID=America/Vancouver:20241228T190000
DTEND;TZID=America/Vancouver:20241228T190000
DTSTAMP:20260421T131046
CREATED:20241122T041104Z
LAST-MODIFIED:20241122T041104Z
UID:3675-1735412400-1735412400@strathconahotel.com
SUMMARY:AJJ with Pigeon Pit
DESCRIPTION:Modo Live Prestents \nAJJ with Pigeon Pit \nBuy Tickets Here \n\nSat Dec 28 2024 \n7:00 PM Doors \n\n\n\n\n\nFolk Rock \n\n\n\n\n\n\nComprised of core members Sean Bonnette (acoustic guitar) and Ben Gallaty (upright bass)\, Andrew Jackson Jihad is a folk-punk outfit from Phoenix\, Arizona. The Jihad formed in 2004\, when front man Bonnette was still a teenager\, and the duo quickly began writing humorously explicit music with macabre themes. They covered subject matter from self-sacrifice to childhood drug addiction\, all sung in a frantic manner with acoustic instrumentation. Their self-released debut\, Candy Cigarettes & Cap Guns\, was released in 2005 after which\, a number of self-released demos and EPs attracted the attention of Plan-It-X Records\, which issued a split release with Andrew Jackson Jihad and the similarly styled Ghost Mice in 2007. On September 11 of the same year\, Asian Man Records released The Jihad’s second full-length album\, People That Can Eat People Are the Luckiest People in the World. Another EP followed in 2008 and in 2009\, Asian Man released the band’s third album Can’t Maintain. They spent several years touring the U.S. and Europe before the 2011 release of their fourth LP Knife Man. The following year Bonnette and Gallaty were joined by second guitarist/keyboardist Preston Bryant and drummer Deacon Batchelor\, expanding the lineup for a fuller band sound. Their touring schedule and profile increased in 2013 and in 2014 the band signed with L.A. indie Side One Dummy Records to release their fifth album\, Christmas Island. \n\n\n 
URL:https://strathconahotel.com/event/ajj-with-pigeon-pit
CATEGORIES:Special
ATTACH;FMTTYPE=image/jpeg:https://strathconahotel.com/wp-content/uploads/2024/11/AJJ-IG-STORY.jpg
END:VEVENT
BEGIN:VEVENT
DTSTART;TZID=America/Vancouver:20241228T130000
DTEND;TZID=America/Vancouver:20241228T130000
DTSTAMP:20260421T131046
CREATED:20241122T214819Z
LAST-MODIFIED:20241218T064340Z
UID:3706-1735390800-1735390800@strathconahotel.com
SUMMARY:NHL Kraken at Canucks
DESCRIPTION:Home of the Canucks \nNHL Kraken at Canucks
URL:https://strathconahotel.com/event/nhl-kraken-at-canucks
CATEGORIES:Sports Events
ATTACH;FMTTYPE=image/png:https://strathconahotel.com/wp-content/uploads/2024/11/Sports-5.png
END:VEVENT
BEGIN:VEVENT
DTSTART;TZID=America/Vancouver:20241226T170000
DTEND;TZID=America/Vancouver:20241226T170000
DTSTAMP:20260421T131046
CREATED:20241122T221235Z
LAST-MODIFIED:20241218T064244Z
UID:3716-1735232400-1735232400@strathconahotel.com
SUMMARY:NFL Seahawks at Bears
DESCRIPTION:Home of the Seahawks \nNFL Seahawks at Bears
URL:https://strathconahotel.com/event/nfl-seahawks-at-bears
CATEGORIES:Sports Events
ATTACH;FMTTYPE=image/png:https://strathconahotel.com/wp-content/uploads/2024/11/Sports-20.png
END:VEVENT
BEGIN:VEVENT
DTSTART;TZID=America/Vancouver:20241223T180000
DTEND;TZID=America/Vancouver:20241223T180000
DTSTAMP:20260421T131046
CREATED:20241122T214635Z
LAST-MODIFIED:20241218T064153Z
UID:3704-1734976800-1734976800@strathconahotel.com
SUMMARY:NHL Sharks at Canucks
DESCRIPTION:Home of the Canucks \nNHL Sharks at Canucks
URL:https://strathconahotel.com/event/nhl-sharks-at-canucks
CATEGORIES:Sports Events
ATTACH;FMTTYPE=image/png:https://strathconahotel.com/wp-content/uploads/2024/11/Sports-4.png
END:VEVENT
END:VCALENDAR